BEGIN:VCALENDAR
VERSION:2.0
PRODID:-//Newport News Economic Development Authority (EDA) - ECPv6.15.18//NONSGML v1.0//EN
CALSCALE:GREGORIAN
METHOD:PUBLISH
X-WR-CALNAME:Newport News Economic Development Authority (EDA)
X-ORIGINAL-URL:https://newportnewsva.com
X-WR-CALDESC:Events for Newport News Economic Development Authority (EDA)
REFRESH-INTERVAL;VALUE=DURATION:PT1H
X-Robots-Tag:noindex
X-PUBLISHED-TTL:PT1H
BEGIN:VTIMEZONE
TZID:Africa/Abidjan
BEGIN:STANDARD
TZOFFSETFROM:+0000
TZOFFSETTO:+0000
TZNAME:GMT
DTSTART:20250101T000000
END:STANDARD
END:VTIMEZONE
BEGIN:VEVENT
DTSTART;TZID=Africa/Abidjan:20260305T130000
DTEND;TZID=Africa/Abidjan:20260305T150000
DTSTAMP:20260419T094324
CREATED:20260302T231152Z
LAST-MODIFIED:20260302T231152Z
UID:10001961-1772715600-1772722800@newportnewsva.com
SUMMARY:EDA Small Business Grant & Loan Information Session (Virtual & In-Person)
DESCRIPTION:Get ready for the EDA Small Business Grant & Loan Information Session where we’ll help you grow your business with funding opportunities.\nEDA Small Business Investment Grants Information Session (In-Person & Virtual)\nJoin us for an exciting event aimed at helping small businesses thrive! The EDA Small Business Grant & Loan Information Session is a fantastic opportunity for entrepreneurs like you to take your business to the next level. Whether you’re just starting out or looking to expand\, this event is packed with valuable insights and resources to fuel your success.\nDate: Tuesday\,March 3\, 2026\nTime: 1:00 PM – 3:00 PM\nLocation: Bloom Coworking; 739 High Street\, Portsmouth\, VA 23704\nAt this in-person and virtual event\, you’ll have the chance to learn about the application requirements and the allowable use of funds for the EDA Small Business Investment Grants & EDA Small Business Revolving Loan Fund. Representatives from the City of Portsmouth Economic Development\, the Zoning Department\, the Permit Department and the Commissioner of the Revenue will provide details on how to apply for a license\, zoning ordinances\, and educate you on permit requirements for the grant application. Bridging Virginia will provide details about the loan application qualifications and process.\nDon’t miss this incredible opportunity to learn\, grow\, and secure the grant funding you need to succeed. Register now to secure your spot at the Small Business Grant & Loan Information Session! \nShare this location:
URL:https://newportnewsva.com/event/eda-small-business-grant-loan-information-session-virtual-in-person-2/
LOCATION:739 High St\, 739 High St\, Portsmouth\, VA\, United States
CATEGORIES:Business,Entrepreneurship
ATTACH;FMTTYPE=image/jpeg:https://newportnewsva.com/wp-content/uploads/2022/07/189798_image-BduycF.jpg
GEO:36.835161;-76.305857
X-APPLE-STRUCTURED-LOCATION;VALUE=URI;X-ADDRESS=739 High St 739 High St Portsmouth VA United States;X-APPLE-RADIUS=500;X-TITLE=739 High St:geo:-76.305857,36.835161
END:VEVENT
BEGIN:VEVENT
DTSTART;TZID=Africa/Abidjan:20260304T133000
DTEND;TZID=Africa/Abidjan:20260304T135500
DTSTAMP:20260419T094324
CREATED:20260302T231150Z
LAST-MODIFIED:20260302T231150Z
UID:10001956-1772631000-1772632500@newportnewsva.com
SUMMARY:Business Growth Strategy Session @bloom
DESCRIPTION:Move your business forward—schedule a FREE individual appointment with a Business Services Specialist.\nCurrent and prospective Portsmouth-based businesses are invited to drop in at bloom for one-on-one consulting support. These sessions help entrepreneurs tackle challenges\, discover available resources\, and move their ideas forward with guidance from Portsmouth Economic Development’s business specialists.  \nBook your 25 minute appointment today! \nShare this location:
URL:https://newportnewsva.com/event/business-growth-strategy-session-bloom-9/
LOCATION:739 High St\, 739 High St\, Portsmouth\, VA\, United States
CATEGORIES:Bloom Coworking,Business,Entrepreneurship
ATTACH;FMTTYPE=image/png:https://newportnewsva.com/wp-content/uploads/2022/07/189396_image-saamqq.png
GEO:36.835161;-76.305857
X-APPLE-STRUCTURED-LOCATION;VALUE=URI;X-ADDRESS=739 High St 739 High St Portsmouth VA United States;X-APPLE-RADIUS=500;X-TITLE=739 High St:geo:-76.305857,36.835161
END:VEVENT
BEGIN:VEVENT
DTSTART;TZID=Africa/Abidjan:20260304T130000
DTEND;TZID=Africa/Abidjan:20260304T132500
DTSTAMP:20260419T094324
CREATED:20260302T231150Z
LAST-MODIFIED:20260302T231150Z
UID:10001955-1772629200-1772630700@newportnewsva.com
SUMMARY:Business Growth Strategy Session @bloom
DESCRIPTION:Move your business forward—schedule a FREE individual appointment with a Business Services Specialist.\nCurrent and prospective Portsmouth-based businesses are invited to drop in at bloom for one-on-one consulting support. These sessions help entrepreneurs tackle challenges\, discover available resources\, and move their ideas forward with guidance from Portsmouth Economic Development’s business specialists.  \nBook your 25 minute appointment today! \nShare this location:
URL:https://newportnewsva.com/event/business-growth-strategy-session-bloom-8/
LOCATION:739 High St\, 739 High St\, Portsmouth\, VA\, United States
CATEGORIES:Bloom Coworking,Business,Entrepreneurship
ATTACH;FMTTYPE=image/png:https://newportnewsva.com/wp-content/uploads/2022/07/189396_image-saamqq.png
GEO:36.835161;-76.305857
X-APPLE-STRUCTURED-LOCATION;VALUE=URI;X-ADDRESS=739 High St 739 High St Portsmouth VA United States;X-APPLE-RADIUS=500;X-TITLE=739 High St:geo:-76.305857,36.835161
END:VEVENT
BEGIN:VEVENT
DTSTART;TZID=Africa/Abidjan:20260304T123000
DTEND;TZID=Africa/Abidjan:20260304T125500
DTSTAMP:20260419T094324
CREATED:20260302T231109Z
LAST-MODIFIED:20260302T231109Z
UID:10001953-1772627400-1772628900@newportnewsva.com
SUMMARY:Business Growth Strategy Session @bloom
DESCRIPTION:Move your business forward—schedule a FREE individual appointment with a Business Services Specialist.\nCurrent and prospective Portsmouth-based businesses are invited to drop in at bloom for one-on-one consulting support. These sessions help entrepreneurs tackle challenges\, discover available resources\, and move their ideas forward with guidance from Portsmouth Economic Development’s business specialists.  \nBook your 25 minute appointment today! \nShare this location:
URL:https://newportnewsva.com/event/business-growth-strategy-session-bloom-7/
LOCATION:739 High St\, 739 High St\, Portsmouth\, VA\, United States
CATEGORIES:Bloom Coworking,Business,Entrepreneurship
ATTACH;FMTTYPE=image/png:https://newportnewsva.com/wp-content/uploads/2022/07/189396_image-saamqq.png
GEO:36.835161;-76.305857
X-APPLE-STRUCTURED-LOCATION;VALUE=URI;X-ADDRESS=739 High St 739 High St Portsmouth VA United States;X-APPLE-RADIUS=500;X-TITLE=739 High St:geo:-76.305857,36.835161
END:VEVENT
BEGIN:VEVENT
DTSTART;TZID=Africa/Abidjan:20260304T120000
DTEND;TZID=Africa/Abidjan:20260304T122500
DTSTAMP:20260419T094324
CREATED:20260302T231036Z
LAST-MODIFIED:20260302T231036Z
UID:10001948-1772625600-1772627100@newportnewsva.com
SUMMARY:Business Growth Strategy Session @bloom
DESCRIPTION:Move your business forward—schedule a FREE individual appointment with a Business Services Specialist.\nCurrent and prospective Portsmouth-based businesses are invited to drop in at bloom for one-on-one consulting support. These sessions help entrepreneurs tackle challenges\, discover available resources\, and move their ideas forward with guidance from Portsmouth Economic Development’s business specialists.  \nBook your 25 minute appointment today! \nShare this location:
URL:https://newportnewsva.com/event/business-growth-strategy-session-bloom-6/
LOCATION:739 High St\, 739 High St\, Portsmouth\, VA\, United States
CATEGORIES:Bloom Coworking,Business,Entrepreneurship
ATTACH;FMTTYPE=image/png:https://newportnewsva.com/wp-content/uploads/2022/07/189396_image-saamqq.png
GEO:36.835161;-76.305857
X-APPLE-STRUCTURED-LOCATION;VALUE=URI;X-ADDRESS=739 High St 739 High St Portsmouth VA United States;X-APPLE-RADIUS=500;X-TITLE=739 High St:geo:-76.305857,36.835161
END:VEVENT
BEGIN:VEVENT
DTSTART;TZID=Africa/Abidjan:20260304T113000
DTEND;TZID=Africa/Abidjan:20260304T115500
DTSTAMP:20260419T094324
CREATED:20260302T231036Z
LAST-MODIFIED:20260302T231036Z
UID:10001947-1772623800-1772625300@newportnewsva.com
SUMMARY:Business Growth Strategy Session @bloom
DESCRIPTION:Move your business forward—schedule a FREE individual appointment with a Business Services Specialist.\nCurrent and prospective Portsmouth-based businesses are invited to drop in at bloom for one-on-one consulting support. These sessions help entrepreneurs tackle challenges\, discover available resources\, and move their ideas forward with guidance from Portsmouth Economic Development’s business specialists.  \nBook your 25 minute appointment today! \nShare this location:
URL:https://newportnewsva.com/event/business-growth-strategy-session-bloom-5/
LOCATION:739 High St\, 739 High St\, Portsmouth\, VA\, United States
CATEGORIES:Bloom Coworking,Business,Entrepreneurship
ATTACH;FMTTYPE=image/png:https://newportnewsva.com/wp-content/uploads/2022/07/189396_image-saamqq.png
GEO:36.835161;-76.305857
X-APPLE-STRUCTURED-LOCATION;VALUE=URI;X-ADDRESS=739 High St 739 High St Portsmouth VA United States;X-APPLE-RADIUS=500;X-TITLE=739 High St:geo:-76.305857,36.835161
END:VEVENT
BEGIN:VEVENT
DTSTART;TZID=Africa/Abidjan:20260304T110000
DTEND;TZID=Africa/Abidjan:20260304T112500
DTSTAMP:20260419T094324
CREATED:20260302T231035Z
LAST-MODIFIED:20260302T231035Z
UID:10001946-1772622000-1772623500@newportnewsva.com
SUMMARY:Business Growth Strategy Session @bloom
DESCRIPTION:Move your business forward—schedule a FREE individual appointment with a Business Services Specialist.\nCurrent and prospective Portsmouth-based businesses are invited to drop in at bloom for one-on-one consulting support. These sessions help entrepreneurs tackle challenges\, discover available resources\, and move their ideas forward with guidance from Portsmouth Economic Development’s business specialists.  \nBook your 25 minute appointment today! \nShare this location:
URL:https://newportnewsva.com/event/business-growth-strategy-session-bloom-4/
LOCATION:739 High St\, 739 High St\, Portsmouth\, VA\, United States
CATEGORIES:Bloom Coworking,Business,Entrepreneurship
ATTACH;FMTTYPE=image/png:https://newportnewsva.com/wp-content/uploads/2022/07/189396_image-saamqq.png
GEO:36.835161;-76.305857
X-APPLE-STRUCTURED-LOCATION;VALUE=URI;X-ADDRESS=739 High St 739 High St Portsmouth VA United States;X-APPLE-RADIUS=500;X-TITLE=739 High St:geo:-76.305857,36.835161
END:VEVENT
BEGIN:VEVENT
DTSTART;TZID=Africa/Abidjan:20260304T103000
DTEND;TZID=Africa/Abidjan:20260304T105500
DTSTAMP:20260419T094324
CREATED:20260302T230955Z
LAST-MODIFIED:20260302T230955Z
UID:10001944-1772620200-1772621700@newportnewsva.com
SUMMARY:Business Growth Strategy Session @bloom
DESCRIPTION:Move your business forward—schedule a FREE individual appointment with a Business Services Specialist.\nCurrent and prospective Portsmouth-based businesses are invited to drop in at bloom for one-on-one consulting support. These sessions help entrepreneurs tackle challenges\, discover available resources\, and move their ideas forward with guidance from Portsmouth Economic Development’s business specialists.  \nBook your 25 minute appointment today! \nShare this location:
URL:https://newportnewsva.com/event/business-growth-strategy-session-bloom-3/
LOCATION:739 High St\, 739 High St\, Portsmouth\, VA\, United States
CATEGORIES:Bloom Coworking,Business,Entrepreneurship
ATTACH;FMTTYPE=image/png:https://newportnewsva.com/wp-content/uploads/2022/07/189396_image-saamqq.png
GEO:36.835161;-76.305857
X-APPLE-STRUCTURED-LOCATION;VALUE=URI;X-ADDRESS=739 High St 739 High St Portsmouth VA United States;X-APPLE-RADIUS=500;X-TITLE=739 High St:geo:-76.305857,36.835161
END:VEVENT
BEGIN:VEVENT
DTSTART;TZID=Africa/Abidjan:20260304T100000
DTEND;TZID=Africa/Abidjan:20260304T102500
DTSTAMP:20260419T094324
CREATED:20260302T230954Z
LAST-MODIFIED:20260302T230954Z
UID:10001943-1772618400-1772619900@newportnewsva.com
SUMMARY:Business Growth Strategy Session @bloom
DESCRIPTION:Move your business forward—schedule a FREE individual appointment with a Business Services Specialist.\nCurrent and prospective Portsmouth-based businesses are invited to drop in at bloom for one-on-one consulting support. These sessions help entrepreneurs tackle challenges\, discover available resources\, and move their ideas forward with guidance from Portsmouth Economic Development’s business specialists.  \nBook your 25 minute appointment today! \nShare this location:
URL:https://newportnewsva.com/event/business-growth-strategy-session-bloom-2/
LOCATION:739 High St\, 739 High St\, Portsmouth\, VA\, United States
CATEGORIES:Bloom Coworking,Business,Entrepreneurship
ATTACH;FMTTYPE=image/png:https://newportnewsva.com/wp-content/uploads/2022/07/189396_image-saamqq.png
GEO:36.835161;-76.305857
X-APPLE-STRUCTURED-LOCATION;VALUE=URI;X-ADDRESS=739 High St 739 High St Portsmouth VA United States;X-APPLE-RADIUS=500;X-TITLE=739 High St:geo:-76.305857,36.835161
END:VEVENT
BEGIN:VEVENT
DTSTART;TZID=Africa/Abidjan:20260204T110000
DTEND;TZID=Africa/Abidjan:20260204T112500
DTSTAMP:20260419T094324
CREATED:20260202T220555Z
LAST-MODIFIED:20260202T220555Z
UID:10001857-1770202800-1770204300@newportnewsva.com
SUMMARY:Business Growth Strategy Session @bloom
DESCRIPTION:Move your business forward—schedule a FREE individual appointment with a Business Services Specialist.\nCurrent and prospective Portsmouth-based businesses are invited to drop in at bloom for one-on-one consulting support. These sessions help entrepreneurs tackle challenges\, discover available resources\, and move their ideas forward with guidance from Portsmouth Economic Development’s business specialists.  \nBook your 25 minute appointment today! \nShare this location:
URL:https://newportnewsva.com/event/business-growth-strategy-session-bloom/
LOCATION:739 High St\, 739 High St\, Portsmouth\, VA\, United States
CATEGORIES:Bloom Coworking,Business,Entrepreneurship
ATTACH;FMTTYPE=image/png:https://newportnewsva.com/wp-content/uploads/2022/07/189396_image-saamqq.png
GEO:36.835161;-76.305857
X-APPLE-STRUCTURED-LOCATION;VALUE=URI;X-ADDRESS=739 High St 739 High St Portsmouth VA United States;X-APPLE-RADIUS=500;X-TITLE=739 High St:geo:-76.305857,36.835161
END:VEVENT
END:VCALENDAR