BEGIN:VCALENDAR
VERSION:2.0
PRODID:-//Newport News Economic Development Authority (EDA) - ECPv6.15.18//NONSGML v1.0//EN
CALSCALE:GREGORIAN
METHOD:PUBLISH
X-ORIGINAL-URL:https://newportnewsva.com
X-WR-CALDESC:Events for Newport News Economic Development Authority (EDA)
REFRESH-INTERVAL;VALUE=DURATION:PT1H
X-Robots-Tag:noindex
X-PUBLISHED-TTL:PT1H
BEGIN:VTIMEZONE
TZID:Africa/Abidjan
BEGIN:STANDARD
TZOFFSETFROM:+0000
TZOFFSETTO:+0000
TZNAME:GMT
DTSTART:20250101T000000
END:STANDARD
END:VTIMEZONE
BEGIN:VTIMEZONE
TZID:America/New_York
BEGIN:DAYLIGHT
TZOFFSETFROM:-0500
TZOFFSETTO:-0400
TZNAME:EDT
DTSTART:20250309T070000
END:DAYLIGHT
BEGIN:STANDARD
TZOFFSETFROM:-0400
TZOFFSETTO:-0500
TZNAME:EST
DTSTART:20251102T060000
END:STANDARD
BEGIN:DAYLIGHT
TZOFFSETFROM:-0500
TZOFFSETTO:-0400
TZNAME:EDT
DTSTART:20260308T070000
END:DAYLIGHT
BEGIN:STANDARD
TZOFFSETFROM:-0400
TZOFFSETTO:-0500
TZNAME:EST
DTSTART:20261101T060000
END:STANDARD
BEGIN:DAYLIGHT
TZOFFSETFROM:-0500
TZOFFSETTO:-0400
TZNAME:EDT
DTSTART:20270314T070000
END:DAYLIGHT
BEGIN:STANDARD
TZOFFSETFROM:-0400
TZOFFSETTO:-0500
TZNAME:EST
DTSTART:20271107T060000
END:STANDARD
END:VTIMEZONE
BEGIN:VEVENT
DTSTART;TZID=Africa/Abidjan:20260318T130000
DTEND;TZID=Africa/Abidjan:20260318T150000
DTSTAMP:20260425T164915
CREATED:20260316T232150Z
LAST-MODIFIED:20260316T232150Z
UID:10001996-1773838800-1773846000@newportnewsva.com
SUMMARY:Get Toasted: Build Your Own Toast Bar
DESCRIPTION:Make an Assembly line… to the toaster! We’re serving up homemade sourdough and a spread of sweet and savory toppings so you can build your perfect slice while connecting with fellow members. Drop in\, grab a plate\, top your toast\, spark a conversation\, and kick off your day with a little extra flavor and community. \nShare this location:
URL:https://newportnewsva.com/event/get-toasted-build-your-own-toast-bar-2/
LOCATION:400 Granby St\, Norfolk\, VA\, United States
GEO:36.895911;-76.208521
END:VEVENT
BEGIN:VEVENT
DTSTART;TZID=Africa/Abidjan:20260318T130000
DTEND;TZID=Africa/Abidjan:20260318T150000
DTSTAMP:20260425T164915
CREATED:20260309T232221Z
LAST-MODIFIED:20260316T232150Z
UID:10001995-1773838800-1773846000@newportnewsva.com
SUMMARY:Get Toasted: Build Your Own Toast Bar
DESCRIPTION:Make an Assembly line… to the toaster! We’re serving up homemade sourdough and a spread of sweet and savory toppings so you can build your perfect slice while connecting with fellow members. Drop in\, grab a plate\, top your toast\, spark a conversation\, and kick off your day with a little extra flavor and a lot of community. \nShare this location:
URL:https://newportnewsva.com/event/get-toasted-build-your-own-toast-bar/
LOCATION:400 Granby St\, Norfolk\, VA\, United States
GEO:36.895911;-76.208521
END:VEVENT
BEGIN:VEVENT
DTSTART;TZID=Africa/Abidjan:20260312T200000
DTEND;TZID=Africa/Abidjan:20260312T230000
DTSTAMP:20260425T164915
CREATED:20260309T232109Z
LAST-MODIFIED:20260309T232109Z
UID:10001981-1773345600-1773356400@newportnewsva.com
SUMMARY:Assembly Office Hours: A Progressive Tapas Party
DESCRIPTION:Step out of your usual routine and into a night made for adventure! This isn’t your typical office hours—we’ll start in the living room\, and each stop along our journey will feature a tenant paired with small bites\, vibrant conversation\, and refreshing drinks. This progressive tapas party offers an opportunity to connect with fellow members\, explore different spaces\, and enjoy a curated culinary journey. Open to tenants and members + one guest. Please RSVP in the community portal. – https://community.assemblynfk.com/en/events/view/1415664695/assembly-office-hours-a-progressive-tapas-party \nShare this location:
URL:https://newportnewsva.com/event/assembly-office-hours-a-progressive-tapas-party-2/
LOCATION:400 Granby St\, Norfolk\, VA\, United States
GEO:36.895911;-76.208521
END:VEVENT
BEGIN:VEVENT
DTSTART;TZID=Africa/Abidjan:20260312T200000
DTEND;TZID=Africa/Abidjan:20260312T230000
DTSTAMP:20260425T164915
CREATED:20260309T232109Z
LAST-MODIFIED:20260309T232109Z
UID:10001980-1773345600-1773356400@newportnewsva.com
SUMMARY:Assembly Office Hours: A Progressive Tapas Party
DESCRIPTION:Step out of your usual routine and into a night made for adventure! This isn’t your typical office hours—we’ll start in the living room\, and each stop along our journey will feature a tenant paired with small bites\, vibrant conversation\, and refreshing drinks. This progressive tapas party offers an opportunity to connect with fellow members\, explore different spaces\, and enjoy a curated culinary journey. Open to tenants and members + one guest. Please RSVP in the community portal. – https://community.assemblynfk.com/en/events/view/1415664695/assembly-office-hours-a-progressive-tapas-party \nShare this location:
URL:https://newportnewsva.com/event/assembly-office-hours-a-progressive-tapas-party/
LOCATION:400 Granby St\, Norfolk\, VA\, United States
GEO:36.895911;-76.208521
END:VEVENT
BEGIN:VEVENT
DTSTART;TZID=Africa/Abidjan:20260311T230000
DTEND;TZID=Africa/Abidjan:20260312T020000
DTSTAMP:20260425T164915
CREATED:20260309T232102Z
LAST-MODIFIED:20260309T232102Z
UID:10001975-1773270000-1773280800@newportnewsva.com
SUMMARY:Da Art of Storytellin': Chapter 3
DESCRIPTION:Come out for the third installment in an immersive series exploring the journey behind how art is created across mediums through powerful\, personal storytelling. This session will take you behind the scenes of photography and videography\, focusing on the instincts\, experiences\, and perspective of the person behind the camera. Through an interactive conversation with visual creatives\, attendees explore how identity\, environment\, and emotion shape the stories we see — and the moments we don’t\, hosted by Big Ph!sh and SoDope. – https://posh.vip/e/da-art-of-storytellin-chapter-3 \nShare this location:
URL:https://newportnewsva.com/event/da-art-of-storytellin-chapter-3/
LOCATION:400 Granby St\, Norfolk\, VA\, United States
GEO:36.895911;-76.208521
END:VEVENT
BEGIN:VEVENT
DTSTART;TZID=America/New_York:20260304T190000
DTEND;TZID=America/New_York:20260304T210000
DTSTAMP:20260425T164915
CREATED:20260302T231151Z
LAST-MODIFIED:20260302T231151Z
UID:10001958-1772650800-1772658000@newportnewsva.com
SUMMARY:Expanding Black Male Authenticity & Creativity by I SEE YOU BRO
DESCRIPTION:Come out for candid conversations and real talk — it’s more than just a round table\, it’s a community coming together to share. This month\, they’ll be discussing expanding black male authenticity & creativity led by Dr. O’Shan D. Gadsden\, Applied Psychologist & Author. – https://www.eventbrite.com/e/i-see-you-bro-presents-the-lab-tickets-1623373215989?aff=erelexpmlt \nShare this location:
URL:https://newportnewsva.com/event/expanding-black-male-authenticity-creativity-by-i-see-you-bro/
LOCATION:400 Granby St\, Norfolk\, VA\, United States
GEO:36.895911;-76.208521
END:VEVENT
BEGIN:VEVENT
DTSTART;TZID=America/New_York:20260303T173000
DTEND;TZID=America/New_York:20260303T183000
DTSTAMP:20260425T164915
CREATED:20260302T230954Z
LAST-MODIFIED:20260302T230954Z
UID:10001942-1772559000-1772562600@newportnewsva.com
SUMMARY:Soar Sessions: She Leads; The Power of Mentorship
DESCRIPTION:Women will explore the transformative power of mentorship — both as mentors and mentees. She Leads creates space for authentic conversation\, connection\, and clarity around how women can lift as they climb\, share wisdom across generations\, and create pathways for personal and professional growth. – https://www.eventbrite.com/e/1980343123592?aff=oddtdtcreator \nShare this location:
URL:https://newportnewsva.com/event/soar-sessions-she-leads-the-power-of-mentorship/
LOCATION:400 Granby St\, Norfolk\, VA\, United States
GEO:36.895911;-76.208521
END:VEVENT
BEGIN:VEVENT
DTSTART;TZID=Africa/Abidjan:20260226T163000
DTEND;TZID=Africa/Abidjan:20260226T180000
DTSTAMP:20260425T164915
CREATED:20260223T225704Z
LAST-MODIFIED:20260223T225704Z
UID:10001933-1772123400-1772128800@newportnewsva.com
SUMMARY:Marketing in the Age of AI
DESCRIPTION:Join us for Marketing in the Age of AI\, a session presented by AMA Hampton Roads\, to explore how artificial intelligence is reshaping today’s marketing landscape. Learn practical\, real-world ways businesses are using AI through an interactive presentation led by industry experts. Enjoy networking\, a catered lunch\, and insights that are approachable\, educational\, and immediately applicable — whether you’re new to AI or already experimenting. Tenants & members\, see the community portal for a limited discount.  – https://lp.constantcontactpages.com/ev/reg/e8951a7a-e182-4465-a6fc-189aba6e4414?fbclid=IwY2xjawPfFNNleHRuA2FlbQIxMABicmlkETFxZmxtV2VKcmtic2FrZ1kyc3J0YwZhcHBfaWQQMjIyMDM5MTc4ODIwMDg5MgABHlqCpBmanKxFTF-1278JyWaaYJIISHkCtaVwmQjM4QmwjAZ6sh8uSX2EgZA3_aem_Bug_0vAnkbRW89K2Mm3LcA \nShare this location:
URL:https://newportnewsva.com/event/marketing-in-the-age-of-ai/
LOCATION:400 Granby St\, Norfolk\, VA\, United States
GEO:36.895911;-76.208521
END:VEVENT
BEGIN:VEVENT
DTSTART;TZID=Africa/Abidjan:20260223T233000
DTEND;TZID=Africa/Abidjan:20260224T010000
DTSTAMP:20260425T164915
CREATED:20260216T223933Z
LAST-MODIFIED:20260223T225425Z
UID:10001916-1771889400-1771894800@newportnewsva.com
SUMMARY:Norfolk.js
DESCRIPTION:Come hang with Norfolk.js to kick off the HRDevFest week with their HRDevFest Pre-Show — a fun\, low-key chance to connect before the main event. Hang out\, chat about new JavaScript trends\, and meet fellow web developers of all skill levels. – https://www.meetup.com/norfolkjs/events/313101031/?utm_medium=referral&utm_campaign=share-btn_savedevents_share_modal&utm_source=link&utm_version=v2&member_id=183507571 \nShare this location:
URL:https://newportnewsva.com/event/norfolk-js/
LOCATION:400 Granby St\, Norfolk\, VA\, United States
GEO:36.895911;-76.208521
END:VEVENT
BEGIN:VEVENT
DTSTART;TZID=Africa/Abidjan:20260222T140000
DTEND;TZID=Africa/Abidjan:20260222T190000
DTSTAMP:20260425T164915
CREATED:20260216T223858Z
LAST-MODIFIED:20260216T223858Z
UID:10001906-1771768800-1771786800@newportnewsva.com
SUMMARY:757 BLD WKND 2026
DESCRIPTION:If you love to build and create\, this event is for you! A high-energy\, weekend-long experience where entrepreneurs\, students\, and professionals bring bold ideas to life and pitch for prizes and bragging rights. This event blends tech\, gaming\, music\, AI\, and hands-on exploration in a culture-rich\, electrifying environment. Open to both technical and non-technical builders\, it’s a three-day opportunity to collaborate\, find talent\, and create together with 757 Startup Studios. – https://757-bld-wknd-2026.devpost.com/ \nShare this location:
URL:https://newportnewsva.com/event/757-bld-wknd-2026-3/
LOCATION:400 Granby St\, Norfolk\, VA\, United States
GEO:36.895911;-76.208521
END:VEVENT
BEGIN:VEVENT
DTSTART;TZID=Africa/Abidjan:20260221T140000
DTEND;TZID=Africa/Abidjan:20260222T000000
DTSTAMP:20260425T164915
CREATED:20260216T223833Z
LAST-MODIFIED:20260216T223833Z
UID:10001904-1771682400-1771718400@newportnewsva.com
SUMMARY:757 BLD WKND 2026
DESCRIPTION:If you love to build and create\, this event is for you! A high-energy\, weekend-long experience where entrepreneurs\, students\, and professionals bring bold ideas to life and pitch for prizes and bragging rights. This event blends tech\, gaming\, music\, AI\, and hands-on exploration in a culture-rich\, electrifying environment. Open to both technical and non-technical builders\, it’s a three-day opportunity to collaborate\, find talent\, and create together with 757 Startup Studios. – https://757-bld-wknd-2026.devpost.com/ \nShare this location:
URL:https://newportnewsva.com/event/757-bld-wknd-2026-2/
LOCATION:400 Granby St\, Norfolk\, VA\, United States
GEO:36.895911;-76.208521
END:VEVENT
BEGIN:VEVENT
DTSTART;TZID=Africa/Abidjan:20260220T140000
DTEND;TZID=Africa/Abidjan:20260221T000000
DTSTAMP:20260425T164915
CREATED:20260216T223833Z
LAST-MODIFIED:20260216T223833Z
UID:10001903-1771596000-1771632000@newportnewsva.com
SUMMARY:757 BLD WKND 2026
DESCRIPTION:If you love to build and create\, this event is for you! A high-energy\, weekend-long experience where entrepreneurs\, students\, and professionals bring bold ideas to life and pitch for prizes and bragging rights. This event blends tech\, gaming\, music\, AI\, and hands-on exploration in a culture-rich\, electrifying environment. Open to both technical and non-technical builders\, it’s a three-day opportunity to collaborate\, find talent\, and create together with 757 Startup Studios. – https://757-bld-wknd-2026.devpost.com/ \nShare this location:
URL:https://newportnewsva.com/event/757-bld-wknd-2026/
LOCATION:400 Granby St\, Norfolk\, VA\, United States
GEO:36.895911;-76.208521
END:VEVENT
BEGIN:VEVENT
DTSTART;TZID=Africa/Abidjan:20260218T170000
DTEND;TZID=Africa/Abidjan:20260218T193000
DTSTAMP:20260425T164915
CREATED:20260209T222439Z
LAST-MODIFIED:20260216T223832Z
UID:10001896-1771434000-1771443000@newportnewsva.com
SUMMARY:Soup & Chili Swap
DESCRIPTION:Warm up your week — with a soup & chili swap! This is a shared-table kind of event — if you’re planning to enjoy the soups and chilis\, we ask that you bring something to contribute\, whether it’s a crockpot of soup\, chili\, or a tasty addition to go alongside. We’ll provide the fixings! Come taste\, trade recipes\, and hang out over a bowl (or three). No competition — just good food and good company. 🥣 – https://community.assemblynfk.com/events/1415655068/soup-and-chili-swap/tickets \nShare this location:
URL:https://newportnewsva.com/event/soup-chili-swap/
LOCATION:400 Granby St\, Norfolk\, VA\, United States
GEO:36.895911;-76.208521
END:VEVENT
BEGIN:VEVENT
DTSTART;TZID=Africa/Abidjan:20260216T170000
DTEND;TZID=Africa/Abidjan:20260216T183000
DTSTAMP:20260425T164915
CREATED:20260209T222409Z
LAST-MODIFIED:20260209T222409Z
UID:10001890-1771261200-1771266600@newportnewsva.com
SUMMARY:Soar Sessions: STEM Power; Thriving Beyond the Degree
DESCRIPTION:An intimate conversation for women to learn to navigate life after graduation — whether stepping into the workforce\, pursuing advanced degrees\, or pivoting into new passions. This session explores how to thrive beyond the classroom by redefining success on your own terms and leveraging STEM skills in diverse industries and roles\, and creating community that supports growth\, identity\, and balance. – https://www.eventbrite.com/e/soar-session-stempower-thriving-beyond-the-degree-tickets-1978841503205?aff=oddtdtcreator \nShare this location:
URL:https://newportnewsva.com/event/soar-sessions-stem-power-thriving-beyond-the-degree/
LOCATION:400 Granby St\, Norfolk\, VA\, United States
GEO:36.895911;-76.208521
END:VEVENT
BEGIN:VEVENT
DTSTART;TZID=Africa/Abidjan:20260213T160000
DTEND;TZID=Africa/Abidjan:20260213T210000
DTSTAMP:20260425T164915
CREATED:20260209T222409Z
LAST-MODIFIED:20260209T222409Z
UID:10001889-1770998400-1771016400@newportnewsva.com
SUMMARY:Valentine's Day Flower Pop-Up w/ Orbis x Jade Rabbit Flowers
DESCRIPTION:Beat the Valentine’s Day rush! Stop by the living room to pick up a bud vase or bouquet for yourself\, a friend\, or a loved one. Orbis and Jade Rabbit Flowers will have some pre-arranged options available for easy grab-and-go.  – https://www.jaderabbitflowers.com/shop/p/valentines-wrapped-bouquet \nShare this location:
URL:https://newportnewsva.com/event/valentines-day-flower-pop-up-w-orbis-x-jade-rabbit-flowers-2/
LOCATION:400 Granby St\, Norfolk\, VA\, United States
GEO:36.895911;-76.208521
END:VEVENT
BEGIN:VEVENT
DTSTART;TZID=Africa/Abidjan:20260212T160000
DTEND;TZID=Africa/Abidjan:20260212T210000
DTSTAMP:20260425T164915
CREATED:20260209T222408Z
LAST-MODIFIED:20260209T222408Z
UID:10001886-1770912000-1770930000@newportnewsva.com
SUMMARY:Valentine's Day Flower Pop-Up w/ Orbis x Jade Rabbit Flowers
DESCRIPTION:Beat the Valentine’s Day rush! Stop by the living room to pick up locally arranged bud vases or a bouquet for yourself\, a friend\, or a loved one. They’ll have pre-arranged bouquets featuring premium locally grown flowers for easy grab-and-go.  – https://www.jaderabbitflowers.com/shop/p/valentines-wrapped-bouquet \nShare this location:
URL:https://newportnewsva.com/event/valentines-day-flower-pop-up-w-orbis-x-jade-rabbit-flowers/
LOCATION:400 Granby St\, Norfolk\, VA\, United States
GEO:36.895911;-76.208521
END:VEVENT
BEGIN:VEVENT
DTSTART;TZID=Africa/Abidjan:20260207T180000
DTEND;TZID=Africa/Abidjan:20260207T210000
DTSTAMP:20260425T164915
CREATED:20260202T220725Z
LAST-MODIFIED:20260202T220725Z
UID:10001871-1770487200-1770498000@newportnewsva.com
SUMMARY:Gen Z Has Entered the Chat
DESCRIPTION:Come out for an immersive gathering celebrating the culture\, creativity\, and community shaping the next generation. Local officials and leaders will be on the scene to listen to your concerns on Housing\, Transit\, and the future of the region. Connect with curious minds\, hear fresh perspectives\, and experience interactive moments designed to spark meaningful conversation.  – https://www.eventbrite.com/e/gen-z-has-entered-the-chat-tickets-1980684010193?aff=oddtdtcreator \nShare this location:
URL:https://newportnewsva.com/event/gen-z-has-entered-the-chat/
LOCATION:400 Granby St\, Norfolk\, VA\, United States
GEO:36.895911;-76.208521
END:VEVENT
BEGIN:VEVENT
DTSTART;TZID=Africa/Abidjan:20260205T230000
DTEND;TZID=Africa/Abidjan:20260206T000000
DTSTAMP:20260425T164915
CREATED:20260202T220643Z
LAST-MODIFIED:20260202T220643Z
UID:10001867-1770332400-1770336000@newportnewsva.com
SUMMARY:Field Trip: EPOCH Barre Class
DESCRIPTION:Join us for a Field Trip to Epoch — to explore the studio and connect. We’ll get a behind-the-scenes look at the space and then move into a Barre class – a music-driven\, full-body workout that uses light weights\, props\, and barre-based choreography to build strength\, alignment\, and endurance. All fitness levels welcome! – https://community.assemblynfk.com/events/1415642988/field-trip-epoch-barre-class \nShare this location:
URL:https://newportnewsva.com/event/field-trip-epoch-barre-class/
LOCATION:400 Granby St\, Norfolk\, VA\, United States
GEO:36.895911;-76.208521
END:VEVENT
BEGIN:VEVENT
DTSTART;TZID=Africa/Abidjan:20260205T140000
DTEND;TZID=Africa/Abidjan:20260205T180000
DTSTAMP:20260425T164915
CREATED:20260202T220642Z
LAST-MODIFIED:20260202T220642Z
UID:10001863-1770300000-1770314400@newportnewsva.com
SUMMARY:Empowering Entrepreneurs: How to Launch & Grow Your Brick-and-Mortar Business
DESCRIPTION:Join us for a free\, hands-on workshop focused on launching and growing a successful brick-and-mortar business. Designed to support women and minority entrepreneurs\, this session covers site selection\, legal and financial basics\, and creating a storefront that attracts customers. Connect with industry experts and hear from a local Norfolk business owner who’s made it happen. Networking and refreshments provided. Presented by the City of Norfolk\, B. Grace Design\, and Atlantic Union Bank.  – https://www.eventbrite.com/e/small-business-entrepreneurship-workshop-tickets-1978619370801 \nShare this location:
URL:https://newportnewsva.com/event/empowering-entrepreneurs-how-to-launch-grow-your-brick-and-mortar-business/
LOCATION:400 Granby St\, Norfolk\, VA\, United States
GEO:36.895911;-76.208521
END:VEVENT
BEGIN:VEVENT
DTSTART;TZID=Africa/Abidjan:20260128T190000
DTEND;TZID=Africa/Abidjan:20260128T210000
DTSTAMP:20260425T164915
CREATED:20260119T214241Z
LAST-MODIFIED:20260126T215327Z
UID:10001842-1769626800-1769634000@newportnewsva.com
SUMMARY:Pop & Popcorn
DESCRIPTION:Break up your workday and pop through for a classic snack – fresh popcorn and pop! We’ll have some seasoning options and a selection of sodas that will satisfy both the health-conscious and sugar fiends. Close out January with a quick break in your day for community! \nShare this location:
URL:https://newportnewsva.com/event/pop-popcorn/
LOCATION:400 Granby St\, Norfolk\, VA\, United States
GEO:36.895911;-76.208521
END:VEVENT
BEGIN:VEVENT
DTSTART;TZID=Africa/Abidjan:20260126T233000
DTEND;TZID=Africa/Abidjan:20260127T010000
DTSTAMP:20260425T164915
CREATED:20260119T214030Z
LAST-MODIFIED:20260126T215312Z
UID:10001832-1769470200-1769475600@newportnewsva.com
SUMMARY:Norfolk.js: val.town - a nice place for JavaScript
DESCRIPTION:Join us for Norfolk.js’s first meetup of the year as we explore val.town\, a powerful platform for running JavaScript and TypeScript with ease. They’ll walk through what makes it unique and share real examples of how it was used throughout the year to build and experiment. All skill levels are welcome. – https://www.meetup.com/norfolkjs/events/312720895/ \nShare this location:
URL:https://newportnewsva.com/event/norfolk-js-val-town-a-nice-place-for-javascript/
LOCATION:400 Granby St\, Norfolk\, VA\, United States
GEO:36.895911;-76.208521
END:VEVENT
END:VCALENDAR