BEGIN:VCALENDAR
VERSION:2.0
PRODID:-//Newport News Economic Development Authority (EDA) - ECPv6.15.18//NONSGML v1.0//EN
CALSCALE:GREGORIAN
METHOD:PUBLISH
X-WR-CALNAME:Newport News Economic Development Authority (EDA)
X-ORIGINAL-URL:https://newportnewsva.com
X-WR-CALDESC:Events for Newport News Economic Development Authority (EDA)
REFRESH-INTERVAL;VALUE=DURATION:PT1H
X-Robots-Tag:noindex
X-PUBLISHED-TTL:PT1H
BEGIN:VTIMEZONE
TZID:America/Halifax
BEGIN:DAYLIGHT
TZOFFSETFROM:-0400
TZOFFSETTO:-0300
TZNAME:ADT
DTSTART:20250309T060000
END:DAYLIGHT
BEGIN:STANDARD
TZOFFSETFROM:-0300
TZOFFSETTO:-0400
TZNAME:AST
DTSTART:20251102T050000
END:STANDARD
BEGIN:DAYLIGHT
TZOFFSETFROM:-0400
TZOFFSETTO:-0300
TZNAME:ADT
DTSTART:20260308T060000
END:DAYLIGHT
BEGIN:STANDARD
TZOFFSETFROM:-0300
TZOFFSETTO:-0400
TZNAME:AST
DTSTART:20261101T050000
END:STANDARD
BEGIN:DAYLIGHT
TZOFFSETFROM:-0400
TZOFFSETTO:-0300
TZNAME:ADT
DTSTART:20270314T060000
END:DAYLIGHT
BEGIN:STANDARD
TZOFFSETFROM:-0300
TZOFFSETTO:-0400
TZNAME:AST
DTSTART:20271107T050000
END:STANDARD
END:VTIMEZONE
BEGIN:VTIMEZONE
TZID:Africa/Abidjan
BEGIN:STANDARD
TZOFFSETFROM:+0000
TZOFFSETTO:+0000
TZNAME:GMT
DTSTART:20250101T000000
END:STANDARD
END:VTIMEZONE
BEGIN:VTIMEZONE
TZID:America/New_York
BEGIN:DAYLIGHT
TZOFFSETFROM:-0500
TZOFFSETTO:-0400
TZNAME:EDT
DTSTART:20250309T070000
END:DAYLIGHT
BEGIN:STANDARD
TZOFFSETFROM:-0400
TZOFFSETTO:-0500
TZNAME:EST
DTSTART:20251102T060000
END:STANDARD
BEGIN:DAYLIGHT
TZOFFSETFROM:-0500
TZOFFSETTO:-0400
TZNAME:EDT
DTSTART:20260308T070000
END:DAYLIGHT
BEGIN:STANDARD
TZOFFSETFROM:-0400
TZOFFSETTO:-0500
TZNAME:EST
DTSTART:20261101T060000
END:STANDARD
BEGIN:DAYLIGHT
TZOFFSETFROM:-0500
TZOFFSETTO:-0400
TZNAME:EDT
DTSTART:20270314T070000
END:DAYLIGHT
BEGIN:STANDARD
TZOFFSETFROM:-0400
TZOFFSETTO:-0500
TZNAME:EST
DTSTART:20271107T060000
END:STANDARD
END:VTIMEZONE
BEGIN:VEVENT
DTSTART;TZID=America/Halifax:20260423T183000
DTEND;TZID=America/Halifax:20260423T200000
DTSTAMP:20260421T201449
CREATED:20260421T000725Z
LAST-MODIFIED:20260421T000725Z
UID:10002080-1776969000-1776974400@newportnewsva.com
SUMMARY:Claude as Your AI Coworker | AICHR
DESCRIPTION:This event is capped at 500 attendees. Register now to secure your spot.\nEveryone thinks Claude Code is for developers. It’s not.\nClaude Code and Cowork are the closest things we have to a true AI coworker — one that connects to your email\, your calendar\, your files\, and your apps\, then actually does the work instead of just answering questions about it.\nThis session shows you 10 practical things Claude can do for you right now — no coding required. Every example follows the same pattern: you provide the idea and make the final call\, the AI handles the grunt work\, and you review before anything goes live. Human in the loop\, every step.\nThis is our most accessible event yet. If you’ve been curious about AI but felt like everything was aimed at developers — this one’s for you.\n🔍 What We’ll Cover\n10 Live Demonstrations (or as many as we can get done in the hour)\nDaily Morning Briefing — Calendar + email + priorities\, generated before you wake up\nMeeting Prep Researcher — Topic research + one-page briefing\, ready before you walk in\nEmail Triage Assistant — Scan inbox\, flag priorities\, draft replies for your review\nFile Organizer — 500 messy files → sorted\, renamed\, organized in minutes\nData Cleanup Specialist — Messy spreadsheets → clean\, standardized\, formatted\nCompetitive Research Analyst — 5 competitors → structured landscape document\nWeekly Status Report Generator — Compile your week’s work into a summary\nTravel Planner — Budget + dates + preferences → complete itinerary\nSubscription Audit — Find and flag every unused recurring charge\nPresentation Generator — Notes or a topic → branded slide deck\nThe Human-in-the-Loop Pattern Every demo follows the same principle: you bring the starting ideas and judgment. The AI does the heavy lifting. You review and approve before anything is final. The AI is the intern — you’re the boss.\nSetup for Non-Technical People We’ll show you how to get Cowork running on your machine — no terminal\, no code\, no developer tools. Just the Claude Desktop app and your existing accounts.\n🎙️ Your Speaker\nAndrew Stafford Co-Lead of The AI Collective Hampton Roads 25+ years across technology\, cloud architecture\, and AI — including work with Amazon\, NASA\, healthcare platforms\, and enterprise systems. Author of AI for Business. Currently building at the intersection of AI tooling\, agentic workflows\, and practical business automation.\nAlso runs Claude Code for Business Group\nAnd AI Consulting Group\nWho should attend?\nDevelopers and engineers who want to go beyond copilot-style autocomplete\nTechnical professionals curious about agentic AI workflows\nFounders and operators looking to understand the productivity shift\nAnyone who builds\, ships\, or manages software and wants to see what’s possible now\nWhy this matters\nThe gap between “AI assistant” and “AI agent” is closing fast. Claude Code doesn’t just suggest code — it plans\, executes\, verifies\, and coordinates. Cowork extends that to knowledge work. Dispatch makes it mobile. Tasks make it persistent.\nThis isn’t a future roadmap talk. These tools are live\, shipping\, and available today. The question isn’t whether agentic workflows will change how you work — it’s how fast you’ll adopt them.\nCome see what it looks like when you stop chatting with AI and start delegating to it.\nAttendees will receive a comprehensive homework resource guide and access to our AI Workflow Starter Kit for those who want done-for-you templates and video walkthroughs.\n🤝 Organizers & partners\n​\nOrganizers\nThe AI Collective Hampton Roads\n​Platinum partners\nTechArk\nRegent University\nECPI University\nHampton Roads Chamber Foundation\nRetail Alliance & Retail Alliance Foundation\nBronze partners\nAssembly\n757 Collab\n🌍 ​Our parent org\nThe AI Collective is a global non-profit community uniting 150\,000+ pioneers – founders\, researchers\, operators\, and investors – exploring the frontier of AI in major tech hubs worldwide. Through events\, workshops\, and community-led research\, we empower the AI ecosystem to collaboratively steer AI’s future toward trust\, openness\, and human flourishing.\nAll attendees and organizers at events affiliated with The AI Collective agree to our privacy policy and are subject to our code of conduct. Additionally\, by registering for this event\, you agree to The AI Collective Hampton Roads chapter photo & video policy.
URL:https://newportnewsva.com/event/claude-as-your-ai-coworker-aichr/
LOCATION:Online event
ATTACH;FMTTYPE=image/jpeg:https://newportnewsva.com/wp-content/uploads/2022/07/191942_image_highres_533383873-a7IrB9.jpg
ORGANIZER;CN="%F0%9F%A7%9C%E2%80%8D%E2%99%80%EF%B8%8F The AI Collective Hampton Roads":MAILTO:aicollectivehr-announce@messages.meetup.com
END:VEVENT
BEGIN:VEVENT
DTSTART;TZID=Africa/Abidjan:20260423T231500
DTEND;TZID=Africa/Abidjan:20260424T001500
DTSTAMP:20260421T201449
CREATED:20260421T000729Z
LAST-MODIFIED:20260421T000729Z
UID:10002081-1776986100-1776989700@newportnewsva.com
SUMMARY:Beginners Yoga Class by ISYB Collective
DESCRIPTION:Roll out your mat and unwind at this laid-back beginner yoga class led by Brenten. This donation-based session (“pay what you want”) supports I SEE YOU BRO’s 501(c) nonprofit fundraiser and is limited to 20 spots (10 BYO mat\, 10 with mats provided). Perfect for newbies or anyone looking to stretch\, relax\, and enjoy good vibes together. – https://www.eventbrite.com/e/beginners-yoga-class-by-isyb-collective-tickets-1986078209388?aff=erelexpmlt
URL:https://newportnewsva.com/event/beginners-yoga-class-by-isyb-collective/
LOCATION:400 Granby St\, Norfolk\, VA\, United States
GEO:36.895911;-76.208521
END:VEVENT
BEGIN:VEVENT
DTSTART;TZID=Africa/Abidjan:20260424T100000
DTEND;TZID=Africa/Abidjan:20260424T120000
DTSTAMP:20260421T201449
CREATED:20260421T000729Z
LAST-MODIFIED:20260421T000729Z
UID:10002083-1777024800-1777032000@newportnewsva.com
SUMMARY:S.H.E. Talks April 2026 Fireside Chat with Kristen Mantlo
DESCRIPTION:Join us for our 4th S.H.E. Talks Fireside Chat of 2026! Our speaker is Kristen Mantlo \, with S.M.I.L.E.\, Samantha Makes It A Little Easier\nJoin us for our Monthly Event Series where we chat in person with our 2025 S.H.E. Talks Alumni and get more in depth on their topics.\nOur 15th SHE Talks👄Fireside Chat speaker is the Fabulous Kristen Mantlo. She will be speaking about: Well\, she will tell us very soon. She will also be answering questions from the crowd. This is a relaxed\, more intimate setting. There will be Cranky Sisters Coffee available for purchase & other refreshments. We will also have welcome bags as well as a Door Prize! Don’t miss it!  We are starting a bit earlier at 10am from feedback from our Pink Moon Event so that we can mingle longer\, and adding a few more vendors. Our speaker still starts at 11am! No worries if you can’t come until 10:30.\n👄WHERE: We will be at Love Godesss Women’s Studio near Town Center VB\n👄WHEN: FRIDAY 4/24/26 from 10:00am to 12:00 pm. Lots of Free\, Easy Parking.\n👄COST: This is only $10 per person and FREE for HRNG Paid Members. Seating is Limited so Please Register ASAP on EventBrite. This includes Paid Members!\n👄(1) Sponsor this Event: Be our VIP Event Sponsor- For only $150 -Get lots of Advertising on Social Media as well as via email and at the event! Put your items in a Welcome Bag that each attendee will get\, Bring a retractable banner\, speak for 2 minutes at the event\, and have a table (optional). We will also place your logo on our website leading up to the event.\n👄(2) Food/Drink/Large Vendor Tables are Available for only $50 each! Give out your samples and also sell your product. You will get 1 minute to speak to attendees about your product. Put your items in the welcome bag.\n👄(3) Podcast Room/Small Vendor Tables are Available for only $25 each! Give out your samples and info and also talk to attendees. Use a small table and couch or bring your own 4×4 or 6 foot table.\nWe hope to see you there! It is such a fun time.Please Register on EventBrite.\n(due to the nature and dialogue of these converstations\, these events 21 and over)
URL:https://newportnewsva.com/event/s-h-e-talks-april-2026-fireside-chat-with-kristen-mantlo/
LOCATION:Lovegodesss Women’s Studio\, 301 S Independence Blvd\, Virginia Beach\, VA\, United States
CATEGORIES:Networking
ATTACH;FMTTYPE=image/jpeg:https://newportnewsva.com/wp-content/uploads/2022/07/192197_image-scaled-hxOxyi.jpg
GEO:36.829794;-76.136618
X-APPLE-STRUCTURED-LOCATION;VALUE=URI;X-ADDRESS=Lovegodesss Women’s Studio 301 S Independence Blvd Virginia Beach VA United States;X-APPLE-RADIUS=500;X-TITLE=301 S Independence Blvd:geo:-76.136618,36.829794
END:VEVENT
BEGIN:VEVENT
DTSTART;TZID=America/New_York:20260424T120000
DTEND;TZID=America/New_York:20260424T143000
DTSTAMP:20260421T201449
CREATED:20260421T000736Z
LAST-MODIFIED:20260421T000736Z
UID:10002086-1777032000-1777041000@newportnewsva.com
SUMMARY:Spring 2026 Demo Day
DESCRIPTION:Demo Day: The Grand Finale of the Semester!\nCelebrate innovation. Connect across the community. See ideas come to life.\nJoin us for Demo Day\, the ultimate showcase of what happens when ideas meet action at the W&M Entrepreneurship Hub. This high-energy event brings together students\, faculty\, alumni\, and regional entrepreneurs to celebrate a semester of entrepreneurial thinking in action.\nRocket Pitch Faceoff: Watch top student founders compete for the grand prize and pitch their ventures live before a panel of judges.\nThese finalists have refined their ideas through months of mentorship and feedback\, now they’ll take the stage to win it all!\nImpact Showcase: Discover how the Hub community is turning curiosity into impact\, from ventures launched to partnerships formed and lessons learned.\nHub Perks: Earn 500 points toward exclusive Hub swag just for checking in. Everyone who RSVPs and checks in at the event will be entered into our Hub Swag Giveaway for premium prizes and merch.\nWho Should Attend: Faculty\, Staff\, Students\, Alumni & Community Entrepreneurs\nWhether you mentor\, teach\, build\, or cheer from the sidelines\, this is your afternoon to connect and build relationships with the people shaping what’s next.\nCan’t join in person? → Register to join via Zoom or watch using YouTubeLive\nRSVP Required → Claim your spot\n \nSponsored by: The Entrepreneurship Hub
URL:https://newportnewsva.com/event/spring-2026-demo-day/
LOCATION:Tribe Square\, 299 F St\, York Terrace\, VA\, United States
CATEGORIES:Entrepreneurship,Pitch Event
ATTACH;FMTTYPE=image/png:https://newportnewsva.com/wp-content/uploads/2022/07/Screenshot-2026-04-06-at-11.11.01-AM-9j4f02.png
GEO:37.286777;-76.593521
X-APPLE-STRUCTURED-LOCATION;VALUE=URI;X-ADDRESS=Tribe Square 299 F St York Terrace VA United States;X-APPLE-RADIUS=500;X-TITLE=299 F St:geo:-76.593521,37.286777
END:VEVENT
BEGIN:VEVENT
DTSTART;TZID=Africa/Abidjan:20260424T123000
DTEND;TZID=Africa/Abidjan:20260424T153000
DTSTAMP:20260421T201449
CREATED:20260421T000736Z
LAST-MODIFIED:20260421T000736Z
UID:10002084-1777033800-1777044600@newportnewsva.com
SUMMARY:1-on-1 Marketing & Branding Support
DESCRIPTION:Sign up for  a free marketing and branding support session (virtual or in person @ The HIVE in VA Beach) using the Calendly link below!\nDO NOT Sign up Via EVENTBRITE! \nPLEASE use the following link to sign up for the event: Calendly\, DO NOT Sign up Via EVENTBRITE!\nProvided by Simon Matthews\, CEO of Open Door Media Solutions is here to provide advice and valuable resources to help you make a confident\, well-informed decision about your marketing! During your conversation\, he’ll take the time to understand your goals\, answer your questions\, and share insights tailored specifically to your business needs.\nSimply choose any day and time from the calendar that works best for you\, and lock in a session that fits your schedule. He looks forward to connecting with you soon and helping you take the next step toward achieving your marketing goals!
URL:https://newportnewsva.com/event/1-on-1-marketing-branding-support-14/
LOCATION:The HIVE by City of Virginia Beach\, 301 S Independence Blvd\, Virginia Beach\, VA\, United States
CATEGORIES:Business,Entrepreneurship,Home Based Business
ATTACH;FMTTYPE=image/png:https://newportnewsva.com/wp-content/uploads/2022/07/190321_image-7wErNR.png
GEO:36.829794;-76.136618
X-APPLE-STRUCTURED-LOCATION;VALUE=URI;X-ADDRESS=The HIVE by City of Virginia Beach 301 S Independence Blvd Virginia Beach VA United States;X-APPLE-RADIUS=500;X-TITLE=301 S Independence Blvd:geo:-76.136618,36.829794
END:VEVENT
BEGIN:VEVENT
DTSTART;TZID=America/New_York:20260427T183000
DTEND;TZID=America/New_York:20260427T200000
DTSTAMP:20260421T201449
CREATED:20260421T000739Z
LAST-MODIFIED:20260421T000739Z
UID:10002087-1777314600-1777320000@newportnewsva.com
SUMMARY:Norfolk.js: 670k People Watched Us Vibe Code
DESCRIPTION:Imagine being flown across the country to build a full-stack app from scratch in under four hours\, where you have to demo what you made in front of a dev influencer\, corporate recruiter\, and competing engineering teams regardless of if it’s finished or a broken mess.\nNow imagine that it’s all being filmed by a full production crew\, having to juggle team interviews and makeup touchups between code commits and debugging attempts\, all to make a video that’s been viewed over 670\,000 times! Terrifying right?\nRyan McGovern and Austin Galyon did exactly that while competing in a CodeTV Web Dev Challenge sponsored by Intuit\, where they built Pantry Party – a collaborative generative recipe app built using Astro\, Convex\, Clerk\, Netlify\, and the Claude API\, most of which they had never seen or used before that morning. They’ll share what the experience was actually like behind the scenes\, where AI-assisted coding helped\, where it completely failed\, and how their tooling has evolved since.\nAll skill levels welcome! The 757Dev Community means a lot to me\, and I thank each of you for your support. 🖖\nAs always\, HUGE thanks to Assembly for hosting. Learn more about the amenities and community of Assembly at https://www.assemblynfk.com/\nStreet parking is free after 6 pm. From 6:30-7:00 pm\, we will have someone at the door to let you in. After 7\, message the #javascript channel on 757Dev Slack. We meet in the Fur Room on the 4th floor.
URL:https://newportnewsva.com/event/norfolk-js-670k-people-watched-us-vibe-code/
LOCATION:Assembly\, 400 Granby St\, Norfolk\, VA\, United States
CATEGORIES:Meetup,Tech
ATTACH;FMTTYPE=image/png:https://newportnewsva.com/wp-content/uploads/2022/07/Screenshot-2026-04-20-at-3.13.03-PM-qlAB8h.png
GEO:36.851213;-76.289812
X-APPLE-STRUCTURED-LOCATION;VALUE=URI;X-ADDRESS=Assembly 400 Granby St Norfolk VA United States;X-APPLE-RADIUS=500;X-TITLE=400 Granby St:geo:-76.289812,36.851213
END:VEVENT
BEGIN:VEVENT
DTSTART;TZID=Africa/Abidjan:20260427T223000
DTEND;TZID=Africa/Abidjan:20260428T000000
DTSTAMP:20260421T201449
CREATED:20260421T000748Z
LAST-MODIFIED:20260421T000748Z
UID:10002082-1777329000-1777334400@newportnewsva.com
SUMMARY:Norfolk.js — 670K people watched us vibe code
DESCRIPTION:Step behind the scenes of a high-stakes CodeTV challenge where two developers built and demoed a full-stack app in under four hours. Ryan McGovern and Austin Galyon share the reality of coding on camera with new tools and AI under pressure in this conversation hosted by Norfolk.js. – https://www.meetup.com/norfolkjs/events/314156513/
URL:https://newportnewsva.com/event/norfolk-js-670k-people-watched-us-vibe-code-2/
LOCATION:400 Granby St\, Norfolk\, VA\, United States
GEO:36.895911;-76.208521
END:VEVENT
BEGIN:VEVENT
DTSTART;TZID=Africa/Abidjan:20260428T090000
DTEND;TZID=Africa/Abidjan:20260428T150000
DTSTAMP:20260421T201449
CREATED:20260421T000748Z
LAST-MODIFIED:20260421T000748Z
UID:10002085-1777366800-1777388400@newportnewsva.com
SUMMARY:The Network: Direct Employer Access (Norfolk)
DESCRIPTION:Stop applying online. Start shaking hands. Bypass the resume “black hole.” Meet vetted hiring managers who know what your clearance is worth\nThe Algorithm Can’t Hire You. We Can.\nThe Problem: You spend hours tailoring your resume. You submit it to an online portal. You wait. You hear nothing. The “Black Hole” of online applications is the enemy of a fast transition.\nThe Solution: The Network is your bypass. We cut the red tape and put you in the room with the people who actually sign the offer letters.\nThis isn’t a “job fair” where you collect brochures. This is a tactical access point to the 757’s most aggressive military-hiring companies. We have vetted every employer in the room. They aren’t here to tell you to “apply on the website”—they are here to find their next team leader.\nWho Should Attend:\nTransitioning Service Members: Who are tired of the waiting game.\nMilitary Spouses: Looking for employers who understand the PCS lifestyle.\nVeterans: Ready to level up from their current civilian role.\nYour Rules of Engagement:\nBring Resumes if you have them BUT no biggie if you don’t.\nBe Social: No stress\, take your 30 seconds to tell them who you are. Make it count. Learn who they are and what they’re looking for. If it’s not you\, how you can help.\nThe job market is all about who you know. Come know the right people.\nIf you have any additional questions\, please do not hesitate to contact us:\nPhone: 757-807-0423\nEmail: militarycommunity@theworkforcecouncil.org\nThis event and the services provided herein at the Hampton Roads Veterans Employment Centers are funded through 25% or $199\,576 through the Workforce Innovation and Opportunity Act and 75% or $580\,391 through nonfederal sources.
URL:https://newportnewsva.com/event/the-network-direct-employer-access-norfolk-25/
LOCATION:Hampton Roads Veterans Employment Center (HRVEC)\, 861 Glenrock Rd\, Norfolk\, VA\, United States
ATTACH;FMTTYPE=image/png:https://newportnewsva.com/wp-content/uploads/2022/07/187919_image-scaled-bm9IU1.png
GEO:36.852838;-76.20158
X-APPLE-STRUCTURED-LOCATION;VALUE=URI;X-ADDRESS=Hampton Roads Veterans Employment Center (HRVEC) 861 Glenrock Rd Norfolk VA United States;X-APPLE-RADIUS=500;X-TITLE=861 Glenrock Rd:geo:-76.20158,36.852838
END:VEVENT
END:VCALENDAR