BEGIN:VCALENDAR
VERSION:2.0
PRODID:-//Newport News Economic Development Authority (EDA) - ECPv6.15.18//NONSGML v1.0//EN
CALSCALE:GREGORIAN
METHOD:PUBLISH
X-ORIGINAL-URL:https://newportnewsva.com
X-WR-CALDESC:Events for Newport News Economic Development Authority (EDA)
REFRESH-INTERVAL;VALUE=DURATION:PT1H
X-Robots-Tag:noindex
X-PUBLISHED-TTL:PT1H
BEGIN:VTIMEZONE
TZID:America/New_York
BEGIN:DAYLIGHT
TZOFFSETFROM:-0500
TZOFFSETTO:-0400
TZNAME:EDT
DTSTART:20250309T070000
END:DAYLIGHT
BEGIN:STANDARD
TZOFFSETFROM:-0400
TZOFFSETTO:-0500
TZNAME:EST
DTSTART:20251102T060000
END:STANDARD
BEGIN:DAYLIGHT
TZOFFSETFROM:-0500
TZOFFSETTO:-0400
TZNAME:EDT
DTSTART:20260308T070000
END:DAYLIGHT
BEGIN:STANDARD
TZOFFSETFROM:-0400
TZOFFSETTO:-0500
TZNAME:EST
DTSTART:20261101T060000
END:STANDARD
BEGIN:DAYLIGHT
TZOFFSETFROM:-0500
TZOFFSETTO:-0400
TZNAME:EDT
DTSTART:20270314T070000
END:DAYLIGHT
BEGIN:STANDARD
TZOFFSETFROM:-0400
TZOFFSETTO:-0500
TZNAME:EST
DTSTART:20271107T060000
END:STANDARD
END:VTIMEZONE
BEGIN:VEVENT
DTSTART;TZID=America/New_York:20260212T100000
DTEND;TZID=America/New_York:20260212T120000
DTSTAMP:20260422T103119
CREATED:20260209T222408Z
LAST-MODIFIED:20260209T222408Z
UID:10001887-1770890400-1770897600@newportnewsva.com
SUMMARY:Simple Business Plan Bootcamp February 2026
DESCRIPTION:All businesses need a plan to succeed.\nYour plan drives critical decisions and actions that determine whether you succeed or fail. Identifying your core customers\, important activities and key resources can make sure you’re focusing your business on profitability and growth\nUnfortunately\, the business planning process can be confusing and complicated. The format of a traditional business plan can be long\, lengthy and intimidating to write. Knowing what information is critical to include and knowing where to get that information can result in a plan that isn’t helpful or ends up on the shelf ignored.\nIn this two-session class we will take a fresh look at how to create a plan that works for your small business. One that is less confusing\, gives you the ability to make important decisions\, and helps you figure out how to determine what information you really need before you execute the plan. SBDC Manager Eric Byrd will walk you through building your own simple business plan using The Business Model Canvas and other tools so you can easily chart a course for success.\nIn the first session (part one) you will identify the 5 Elements of Your Plan and define the structure of your business concept. This is the foundation of your plan and of your business once you open your doors at launch time. Also in the first session (part one)\, you will discover how to identify your core Customer Segments and Value Proposition to map out what you need to know to turn your idea into an actual operational business. Between the sessions you will do research and gather information about your key customers and value proposition to include in your basic plan. In the second session (part two) you will learn how to use your value proposition information to map out your business model and identify ways to confirm your concept using the data gathering and validation techniques. Also in the second session\, you will be exposed to the three core Business Finance concepts you will need to understand to turn your idea into a functioning business. Throughout the process you will be able to ask questions and identify the specific information you need to have to create the right plan for your specific business.\nSpeaker(s): Eric Byrd\, Manager\, Loudoun SBDC\nFee: $0 No Cost\nTwo Sessions:\n(Part 1) Thursday\, February 5th\, 2025  10:00am – 12:00pm\n(Part 2) Thursday\, February 12th\, 2025  10:00am – 12:00pm\nNOTE: Registration closes 24 hours before start of first class.
URL:https://newportnewsva.com/event/simple-business-plan-bootcamp-february-2026-2/
LOCATION:Virtual
CATEGORIES:Business,Entrepreneurship,SBDC
END:VEVENT
END:VCALENDAR