BEGIN:VCALENDAR
VERSION:2.0
PRODID:-//Newport News Economic Development Authority (EDA) - ECPv6.15.18//NONSGML v1.0//EN
CALSCALE:GREGORIAN
METHOD:PUBLISH
X-WR-CALNAME:Newport News Economic Development Authority (EDA)
X-ORIGINAL-URL:https://newportnewsva.com
X-WR-CALDESC:Events for Newport News Economic Development Authority (EDA)
REFRESH-INTERVAL;VALUE=DURATION:PT1H
X-Robots-Tag:noindex
X-PUBLISHED-TTL:PT1H
BEGIN:VTIMEZONE
TZID:America/New_York
BEGIN:DAYLIGHT
TZOFFSETFROM:-0500
TZOFFSETTO:-0400
TZNAME:EDT
DTSTART:20250309T070000
END:DAYLIGHT
BEGIN:STANDARD
TZOFFSETFROM:-0400
TZOFFSETTO:-0500
TZNAME:EST
DTSTART:20251102T060000
END:STANDARD
BEGIN:DAYLIGHT
TZOFFSETFROM:-0500
TZOFFSETTO:-0400
TZNAME:EDT
DTSTART:20260308T070000
END:DAYLIGHT
BEGIN:STANDARD
TZOFFSETFROM:-0400
TZOFFSETTO:-0500
TZNAME:EST
DTSTART:20261101T060000
END:STANDARD
BEGIN:DAYLIGHT
TZOFFSETFROM:-0500
TZOFFSETTO:-0400
TZNAME:EDT
DTSTART:20270314T070000
END:DAYLIGHT
BEGIN:STANDARD
TZOFFSETFROM:-0400
TZOFFSETTO:-0500
TZNAME:EST
DTSTART:20271107T060000
END:STANDARD
END:VTIMEZONE
BEGIN:VEVENT
DTSTART;TZID=America/New_York:20260421T170000
DTEND;TZID=America/New_York:20260421T190000
DTSTAMP:20260421T075000
CREATED:20260421T000610Z
LAST-MODIFIED:20260421T000610Z
UID:10002065-1776790800-1776798000@newportnewsva.com
SUMMARY:INNOVATE Cyber Virtual Student Showcase & Pitch Event
DESCRIPTION:We’re excited to invite you to the upcoming INNOVATE Cyber Virtual Student Showcase & Pitch Event on Tuesday\, April 21 at 5:00 PM (ET) via Zoom.\nThis high-impact\, experiential learning event highlights the innovative work of undergraduate student teams across the Commonwealth of Virginia who have spent the semester tackling real-world cybersecurity challenges using a design thinking mindset and a human-centered approach.\nJoin us to:\nHear student pitches and innovative cybersecurity solutions with a human-centered approach\nLearn about their journeys and experiences\nExplore emerging talent and opportunities for deeper collaboration\nDate: Tuesday\, April 21\nTime: 5:00 PM (ET)\nLocation: Zoom Webinar – Join from anywhere\nRegister at this link to join us!
URL:https://newportnewsva.com/event/innovate-cyber-virtual-student-showcase-pitch-event/
LOCATION:Virtual
CATEGORIES:Pitch Event
ATTACH;FMTTYPE=image/png:https://newportnewsva.com/wp-content/uploads/2022/07/Innovate-Cyber-skasXF.png
END:VEVENT
END:VCALENDAR