BEGIN:VCALENDAR
VERSION:2.0
PRODID:-//Newport News Economic Development Authority (EDA) - ECPv6.15.18//NONSGML v1.0//EN
CALSCALE:GREGORIAN
METHOD:PUBLISH
X-ORIGINAL-URL:https://newportnewsva.com
X-WR-CALDESC:Events for Newport News Economic Development Authority (EDA)
REFRESH-INTERVAL;VALUE=DURATION:PT1H
X-Robots-Tag:noindex
X-PUBLISHED-TTL:PT1H
BEGIN:VTIMEZONE
TZID:America/New_York
BEGIN:DAYLIGHT
TZOFFSETFROM:-0500
TZOFFSETTO:-0400
TZNAME:EDT
DTSTART:20250309T070000
END:DAYLIGHT
BEGIN:STANDARD
TZOFFSETFROM:-0400
TZOFFSETTO:-0500
TZNAME:EST
DTSTART:20251102T060000
END:STANDARD
BEGIN:DAYLIGHT
TZOFFSETFROM:-0500
TZOFFSETTO:-0400
TZNAME:EDT
DTSTART:20260308T070000
END:DAYLIGHT
BEGIN:STANDARD
TZOFFSETFROM:-0400
TZOFFSETTO:-0500
TZNAME:EST
DTSTART:20261101T060000
END:STANDARD
BEGIN:DAYLIGHT
TZOFFSETFROM:-0500
TZOFFSETTO:-0400
TZNAME:EDT
DTSTART:20270314T070000
END:DAYLIGHT
BEGIN:STANDARD
TZOFFSETFROM:-0400
TZOFFSETTO:-0500
TZNAME:EST
DTSTART:20271107T060000
END:STANDARD
END:VTIMEZONE
BEGIN:VEVENT
DTSTART;TZID=America/New_York:20260127T193000
DTEND;TZID=America/New_York:20260127T210000
DTSTAMP:20260419T094334
CREATED:20260126T215314Z
LAST-MODIFIED:20260126T215314Z
UID:10001847-1769542200-1769547600@newportnewsva.com
SUMMARY:Geeks at a Bar- Peninsula Happy Hour
DESCRIPTION:Do you work with technology or for a tech company? Do you speak geek? Come network with other technology industry workers for a casual\, conversational happy hour.
URL:https://newportnewsva.com/event/geeks-at-a-bar-peninsula-happy-hour-4/
LOCATION:Marketplace at Tech Center\, 12090 Jefferson Ave\, Newport News\, VA\, United States
CATEGORIES:Meetup,Networking
ATTACH;FMTTYPE=image/png:https://newportnewsva.com/wp-content/uploads/2022/07/Screenshot-2026-01-20-at-1.08.19-PM-vDajGf.png
GEO:37.100215;-76.491146
X-APPLE-STRUCTURED-LOCATION;VALUE=URI;X-ADDRESS=Marketplace at Tech Center 12090 Jefferson Ave Newport News VA United States;X-APPLE-RADIUS=500;X-TITLE=12090 Jefferson Ave:geo:-76.491146,37.100215
END:VEVENT
BEGIN:VEVENT
DTSTART;TZID=America/New_York:20260128T083000
DTEND;TZID=America/New_York:20260128T100000
DTSTAMP:20260419T094334
CREATED:20260126T215326Z
LAST-MODIFIED:20260126T215326Z
UID:10001849-1769589000-1769594400@newportnewsva.com
SUMMARY:January BizConnect Networking/Coffee- Decorum Furniture
DESCRIPTION:Join us for our larger monthly networking coffee to connect with other members of the business community and meet new people.\nMembers attend at no charge. Non-members $10 in advance\, $15 at the door. Click here to purchase ticket: https://form.jotform.com/60153655736963
URL:https://newportnewsva.com/event/january-bizconnect-networking-coffee-decorum-furniture/
LOCATION:Decorum Furniture\, 301 W 21st St\, Norfolk\, VA\, United States
CATEGORIES:Meetup,Members-based,Networking
ORGANIZER;CN="BizConnectHR":MAILTO:laura@BizConnectHR.com
GEO:36.868373;-76.288404
X-APPLE-STRUCTURED-LOCATION;VALUE=URI;X-ADDRESS=Decorum Furniture 301 W 21st St Norfolk VA United States;X-APPLE-RADIUS=500;X-TITLE=301 W 21st St:geo:-76.288404,36.868373
END:VEVENT
BEGIN:VEVENT
DTSTART;TZID=America/New_York:20260129T183000
DTEND;TZID=America/New_York:20260129T200000
DTSTAMP:20260419T094334
CREATED:20260126T215328Z
LAST-MODIFIED:20260126T215328Z
UID:10001850-1769711400-1769716800@newportnewsva.com
SUMMARY:The AI Collective Hampton Roads | AI After Hours
DESCRIPTION:A social networking night for AI\, automation\, and curious minds\nAI After Dark is a relaxed\, social-first networking event designed to bring together people across Hampton Roads who are curious about artificial intelligence\, machine learning\, automation\, vibecoding\, and the future of technology.\nThis is not a lecture. This is not a pitch night.\nIt is a space to connect\, explore ideas\, and meet others who are building\, learning\, experimenting\, or simply trying to understand where all of this is headed.\nWhether you are brand new to AI or have been working in the field for years\, you belong here.\n​What to expect\nCasual\, open networking with a diverse mix of builders\, creatives\, technologists\, founders\, students\, and professionals\nOrganic conversations around AI\, ML\, automation\, no-code\, low-code\, and emerging tools\nLight\, informal discussion prompts to help break the ice\nNo presentations\, no panels\, no pressure\nA welcoming environment for all experience levels and backgrounds\nCome as you are. Grab a drink or coffee. Talk shop. Talk life. Make real connections.\nAdditional info can be found on the event’s registration page.
URL:https://newportnewsva.com/event/the-ai-collective-hampton-roads-ai-after-hours/
LOCATION:Three Notch’d Craft Kitchen and Brewing\, 4561 Virginia Beach Blvd\, Virginia Beach\, VA\, United States
CATEGORIES:AI,Meetup,Networking
ATTACH;FMTTYPE=image/png:https://newportnewsva.com/wp-content/uploads/2022/07/Screenshot-2026-01-20-at-1.19.58-PM-OLHUKx.png
GEO:36.843355;-76.134579
X-APPLE-STRUCTURED-LOCATION;VALUE=URI;X-ADDRESS=Three Notch’d Craft Kitchen and Brewing 4561 Virginia Beach Blvd Virginia Beach VA United States;X-APPLE-RADIUS=500;X-TITLE=4561 Virginia Beach Blvd:geo:-76.134579,36.843355
END:VEVENT
END:VCALENDAR