BEGIN:VCALENDAR
VERSION:2.0
PRODID:-//Newport News Economic Development Authority (EDA) - ECPv6.15.18//NONSGML v1.0//EN
CALSCALE:GREGORIAN
METHOD:PUBLISH
X-WR-CALNAME:Newport News Economic Development Authority (EDA)
X-ORIGINAL-URL:https://newportnewsva.com
X-WR-CALDESC:Events for Newport News Economic Development Authority (EDA)
REFRESH-INTERVAL;VALUE=DURATION:PT1H
X-Robots-Tag:noindex
X-PUBLISHED-TTL:PT1H
BEGIN:VTIMEZONE
TZID:America/New_York
BEGIN:DAYLIGHT
TZOFFSETFROM:-0500
TZOFFSETTO:-0400
TZNAME:EDT
DTSTART:20250309T070000
END:DAYLIGHT
BEGIN:STANDARD
TZOFFSETFROM:-0400
TZOFFSETTO:-0500
TZNAME:EST
DTSTART:20251102T060000
END:STANDARD
BEGIN:DAYLIGHT
TZOFFSETFROM:-0500
TZOFFSETTO:-0400
TZNAME:EDT
DTSTART:20260308T070000
END:DAYLIGHT
BEGIN:STANDARD
TZOFFSETFROM:-0400
TZOFFSETTO:-0500
TZNAME:EST
DTSTART:20261101T060000
END:STANDARD
BEGIN:DAYLIGHT
TZOFFSETFROM:-0500
TZOFFSETTO:-0400
TZNAME:EDT
DTSTART:20270314T070000
END:DAYLIGHT
BEGIN:STANDARD
TZOFFSETFROM:-0400
TZOFFSETTO:-0500
TZNAME:EST
DTSTART:20271107T060000
END:STANDARD
END:VTIMEZONE
BEGIN:VTIMEZONE
TZID:Africa/Abidjan
BEGIN:STANDARD
TZOFFSETFROM:+0000
TZOFFSETTO:+0000
TZNAME:GMT
DTSTART:20250101T000000
END:STANDARD
END:VTIMEZONE
BEGIN:VEVENT
DTSTART;TZID=America/New_York:20260212T190000
DTEND;TZID=America/New_York:20260212T200000
DTSTAMP:20260421T171510
CREATED:20260209T222408Z
LAST-MODIFIED:20260209T222408Z
UID:10001888-1770922800-1770926400@newportnewsva.com
SUMMARY:From Intelligence to Authority: Securing AI in 2026
DESCRIPTION:Why AI makes security architecture more important\, not less.\nThis is a live\, digital-only event focused on how AI is reshaping cybersecurity\, identity\, and enterprise architecture. No in-person attendance. Join from anywhere.\nAs AI systems become embedded into security workflows\, identity systems\, and automation pipelines\, the real risk isn’t that AI might be wrong. The real risk is giving a probabilistic system authority in places that require certainty.\nThis session reframes AI security from “model safety” to architecture safety.\nWe’ll explore how trust\, identity\, governance\, and control planes must evolve as intelligence becomes non-deterministic.\nIf you work in cybersecurity\, cloud\, or engineering\, this is how you stay ahead of the threat landscape going into 2026. Join Andrew Stafford for a practical\, architect-level breakdown of what secure AI systems must look like at enterprise scale.\n 
URL:https://newportnewsva.com/event/from-intelligence-to-authority-securing-ai-in-2026/
LOCATION:Virtual
CATEGORIES:AI,Meetup
ATTACH;FMTTYPE=image/png:https://newportnewsva.com/wp-content/uploads/2022/07/Screenshot-2026-01-20-at-1.19.58-PM-OLHUKx.png
END:VEVENT
BEGIN:VEVENT
DTSTART;TZID=America/New_York:20260218T180000
DTEND;TZID=America/New_York:20260218T200000
DTSTAMP:20260421T171510
CREATED:20260209T222453Z
LAST-MODIFIED:20260216T223832Z
UID:10001898-1771437600-1771444800@newportnewsva.com
SUMMARY:Android App Development 101
DESCRIPTION:Come join us either in person or virtually to learn the basics of Android App development.\nZoom Link: TBA
URL:https://newportnewsva.com/event/android-app-development-101/
LOCATION:Vision Care Center of Virginia\, 2156 Cunningham Dr\, Hampton\, VA\, United States
CATEGORIES:Meetup
GEO:37.047965;-76.382896
X-APPLE-STRUCTURED-LOCATION;VALUE=URI;X-ADDRESS=Vision Care Center of Virginia 2156 Cunningham Dr Hampton VA United States;X-APPLE-RADIUS=500;X-TITLE=2156 Cunningham Dr:geo:-76.382896,37.047965
END:VEVENT
BEGIN:VEVENT
DTSTART;TZID=America/New_York:20260219T180000
DTEND;TZID=America/New_York:20260219T200000
DTSTAMP:20260421T171510
CREATED:20260216T223906Z
LAST-MODIFIED:20260216T223906Z
UID:10001912-1771524000-1771531200@newportnewsva.com
SUMMARY:AI Collective-HR | AI ideation\, research\, and validation
DESCRIPTION:Using AI to Think Like a Successful Entrepreneur\nAn AI-powered ideation\, research\, and validation workshop\nBuilding ideas is easy. Proving they matter is hard.\nThis hands-on workshop is designed to help you use AI as a thinking partner to move faster from vague ideas to clearer\, validated directions. Instead of guessing or relying on gut instinct alone\, you will learn practical ways to use AI to challenge assumptions\, explore markets\, and pressure-test ideas before you invest too much time or energy.\nThis session focuses on how founders\, builders\, and teams can use AI to think more clearly\, ask better questions\, and make more informed decisions. No hype. No pitch decks. Just practical frameworks you can apply right away.\n🔍 What you’ll learn\nHow to use AI to generate and refine early-stage ideas\nTurning assumptions into research questions instead of guesses\nExploring customer and market perspectives with AI support\nSimple validation techniques you can use immediately\nHow to move from intuition-driven thinking to evidence-informed decisions\nThis is not about memorizing prompts or chasing tools. It is about learning how to think better with AI in the loop.
URL:https://newportnewsva.com/event/ai-collective-hr-ai-ideation-research-and-validation/
LOCATION:ECPI University\, 5555 Greenwich Rd\, Virginia Beach\, VA\, United States
CATEGORIES:AI,Meetup
ATTACH;FMTTYPE=image/avif:https://newportnewsva.com/wp-content/uploads/2022/07/AI-collective-2-scaled-1uBUzg.avif
GEO:36.842584;-76.176523
X-APPLE-STRUCTURED-LOCATION;VALUE=URI;X-ADDRESS=ECPI University 5555 Greenwich Rd Virginia Beach VA United States;X-APPLE-RADIUS=500;X-TITLE=5555 Greenwich Rd:geo:-76.176523,36.842584
END:VEVENT
BEGIN:VEVENT
DTSTART;TZID=America/New_York:20260222T150000
DTEND;TZID=America/New_York:20260222T190000
DTSTAMP:20260421T171510
CREATED:20260216T223858Z
LAST-MODIFIED:20260216T223858Z
UID:10001907-1771772400-1771786800@newportnewsva.com
SUMMARY:OFFWRLD. SESSIONS | Community Create Day
DESCRIPTION:OFFWRLD. SESSIONS: Community Create Day is an open\, immersive creative experience designed to bring together artists\, musicians\, writers\, designers\, and storytellers from across the 757. This is not a traditional showcase—it’s a live creation space where process is celebrated just as much as the final product.\nFrom the moment doors open\, the building transforms into a multi-room creative playground. Attendees are invited to explore\, connect\, and create in real time. A digital building map will be released ahead of the event and available on-site\, highlighting designated areas for different creative mediums throughout the space.
URL:https://newportnewsva.com/event/offwrld-sessions-community-create-day/
LOCATION:Assembly\, 400 Granby St\, Norfolk\, VA\, United States
CATEGORIES:Just For Fun,Meetup
GEO:36.851213;-76.289812
X-APPLE-STRUCTURED-LOCATION;VALUE=URI;X-ADDRESS=Assembly 400 Granby St Norfolk VA United States;X-APPLE-RADIUS=500;X-TITLE=400 Granby St:geo:-76.289812,36.851213
END:VEVENT
BEGIN:VEVENT
DTSTART;TZID=America/New_York:20260224T193000
DTEND;TZID=America/New_York:20260224T210000
DTSTAMP:20260421T171510
CREATED:20260223T225426Z
LAST-MODIFIED:20260223T225426Z
UID:10001920-1771961400-1771966800@newportnewsva.com
SUMMARY:Geeks at a Bar- Peninsula Happy Hour
DESCRIPTION:Do you work with technology or for a tech company? Do you speak geek? Come network with other technology industry workers for a casual\, conversational happy hour.
URL:https://newportnewsva.com/event/geeks-at-a-bar-peninsula-happy-hour-5/
LOCATION:Marketplace at Tech Center\, 12090 Jefferson Ave\, Newport News\, VA\, United States
CATEGORIES:Meetup,Networking
ATTACH;FMTTYPE=image/png:https://newportnewsva.com/wp-content/uploads/2022/07/Screenshot-2026-01-20-at-1.08.19-PM-vDajGf.png
GEO:37.100215;-76.491146
X-APPLE-STRUCTURED-LOCATION;VALUE=URI;X-ADDRESS=Marketplace at Tech Center 12090 Jefferson Ave Newport News VA United States;X-APPLE-RADIUS=500;X-TITLE=12090 Jefferson Ave:geo:-76.491146,37.100215
END:VEVENT
BEGIN:VEVENT
DTSTART;TZID=America/New_York:20260226T183000
DTEND;TZID=America/New_York:20260226T200000
DTSTAMP:20260421T171510
CREATED:20260223T225704Z
LAST-MODIFIED:20260223T225704Z
UID:10001934-1772130600-1772136000@newportnewsva.com
SUMMARY:The AI Collective Hampton Roads | Connections & (grocery) carts
DESCRIPTION:Meet people and pick up your weekly groceries.\nA casual networking hangout in the grocery store cafe\n​Chats\, connections\, & grocery carts is a relaxed\, social-first networking event for curious\, friendly people across Hampton Roads who enjoy good conversation and knocking out life errands at the same time.\nThis is not a lecture.\nThis is not a pitch night.\nAnd you definitely do not need to “prepare” anything.\nIt is simply a low-pressure space to meet new people\, have real conversations\, and casually connect while wandering the aisles and picking up your weekly groceries.\nWhether you are deeply into AI and automation\, adjacent to tech and creativity\, or just someone who enjoys thoughtful conversations with interesting humans\, you belong here.\nWhat to expect\n​Casual\, open networking with a mix of builders\, creatives\, technologists\, founders\, students\, and professionals\n​Easy\, organic conversations while shopping at your own pace\n​Light\, optional conversation prompts to help break the ice if you want them\n​No presentations\, no panels\, no pressure to “network correctly”\n​A friendly\, welcoming environment for all backgrounds and experience levels\n​Come as you are. Grab a cart or a basket. Pick up dinner for the week. Meet a few new people along the way.
URL:https://newportnewsva.com/event/the-ai-collective-hampton-roads-connections-grocery-carts/
LOCATION:Wegmans\, 4721 Virginia Beach Blvd\, Virginia Beach\, VA\, United States
CATEGORIES:AI,Meetup
ATTACH;FMTTYPE=image/avif:https://newportnewsva.com/wp-content/uploads/2022/07/AI-collective-3-scaled-V8v0n4.avif
GEO:36.84344;-76.140129
X-APPLE-STRUCTURED-LOCATION;VALUE=URI;X-ADDRESS=Wegmans 4721 Virginia Beach Blvd Virginia Beach VA United States;X-APPLE-RADIUS=500;X-TITLE=4721 Virginia Beach Blvd:geo:-76.140129,36.84344
END:VEVENT
BEGIN:VEVENT
DTSTART;TZID=Africa/Abidjan:20260304T170000
DTEND;TZID=Africa/Abidjan:20260304T200000
DTSTAMP:20260421T171510
CREATED:20260302T231151Z
LAST-MODIFIED:20260302T231151Z
UID:10001957-1772643600-1772654400@newportnewsva.com
SUMMARY:Networking Happy Hour with Jake Maines
DESCRIPTION:Voted Best Networking Event In The 757\nCome eat\, drink\, & mingle!\nNetworking Happy Hour is a low-key\, no agenda\, meet new people/catch up with old friends-type of event.\nSwing by anytime between 5 & 8 p.m. for a few minutes or the whole time!\nMore info about the events can be found at http://networkinghh.com/.
URL:https://newportnewsva.com/event/networking-happy-hour-with-jake-maines-9/
LOCATION:Tequila Jalisco Mexican Grill – Great Neck\, 2300 Great Neck Cir\, Virginia Beach\, VA\, United States
CATEGORIES:Business,Just For Fun,Meetup,Networking
ATTACH;FMTTYPE=image/jpeg:https://newportnewsva.com/wp-content/uploads/2022/07/171947_image-scaled-xp8Srh.jpg
GEO:36.883764;-76.04694
X-APPLE-STRUCTURED-LOCATION;VALUE=URI;X-ADDRESS=Tequila Jalisco Mexican Grill – Great Neck 2300 Great Neck Cir Virginia Beach VA United States;X-APPLE-RADIUS=500;X-TITLE=2300 Great Neck Cir:geo:-76.04694,36.883764
END:VEVENT
BEGIN:VEVENT
DTSTART;TZID=America/New_York:20260305T210000
DTEND;TZID=America/New_York:20260306T000000
DTSTAMP:20260421T171510
CREATED:20260302T231159Z
LAST-MODIFIED:20260302T231159Z
UID:10001965-1772744400-1772755200@newportnewsva.com
SUMMARY:Late Night Coders
DESCRIPTION:Can’t sleep? Stay up all night coding? Or can’t make the usual meetups till the kids are in bed?\nLate Night Coders is a meetup for the rest of us.\nLet’s get together and share what we’re working on\, co-work\, or get help on any problems we’re running into. Some code challenge keeping you up? Bring it to us!\nAnyone is welcome at any experience or sleep-deprivation level. Bring your laptop! Or just come hang out with cool people.
URL:https://newportnewsva.com/event/late-night-coders-3/
LOCATION:Buffalo Wild Wings\, 301 S Independence Blvd\, Virginia Beach\, VA\, United States
CATEGORIES:757 Dev,Meetup
ATTACH;FMTTYPE=image/png:https://newportnewsva.com/wp-content/uploads/2022/07/Screenshot-2026-01-20-at-4.07.18-PM-XvmaRM.png
GEO:36.829794;-76.136618
X-APPLE-STRUCTURED-LOCATION;VALUE=URI;X-ADDRESS=Buffalo Wild Wings 301 S Independence Blvd Virginia Beach VA United States;X-APPLE-RADIUS=500;X-TITLE=301 S Independence Blvd:geo:-76.136618,36.829794
END:VEVENT
BEGIN:VEVENT
DTSTART;TZID=America/New_York:20260313T080000
DTEND;TZID=America/New_York:20260313T100000
DTSTAMP:20260421T171510
CREATED:20260309T232208Z
LAST-MODIFIED:20260309T232208Z
UID:10001984-1773388800-1773396000@newportnewsva.com
SUMMARY:Women in Business Monthly Coffee Meetup
DESCRIPTION:Join us at Astraea Coffee! The event is open to the public and no registration is required.\n(The link provided goes to a Contact Form to subscribe for event updates.)
URL:https://newportnewsva.com/event/women-in-business-monthly-coffee-meetup/
LOCATION:Astraea Coffee\, 2438 N Landing Rd\, Virginia Beach\, VA\, United States
CATEGORIES:Business,Meetup
ATTACH;FMTTYPE=image/jpeg:https://newportnewsva.com/wp-content/uploads/2022/07/IMG_8257-byg8Gf.jpg
GEO:36.750177;-76.054784
X-APPLE-STRUCTURED-LOCATION;VALUE=URI;X-ADDRESS=Astraea Coffee 2438 N Landing Rd Virginia Beach VA United States;X-APPLE-RADIUS=500;X-TITLE=2438 N Landing Rd:geo:-76.054784,36.750177
END:VEVENT
BEGIN:VEVENT
DTSTART;TZID=Africa/Abidjan:20260318T170000
DTEND;TZID=Africa/Abidjan:20260318T190000
DTSTAMP:20260421T171510
CREATED:20260316T232150Z
LAST-MODIFIED:20260316T232150Z
UID:10001997-1773853200-1773860400@newportnewsva.com
SUMMARY:Connect Coastal Virginia's Sip&Socialize Business Networking
DESCRIPTION:Join Connect Coastal Virginia for our Sip & Socialize Networking Event where GovCon leaders\, tech innovators and creative minds meet!
URL:https://newportnewsva.com/event/connect-coastal-virginias-sipsocialize-business-networking/
LOCATION:Jimmy G’s Chop House & Bistro Bar\, 3333 Virginia Beach Blvd\, Virginia Beach\, VA\, United States
CATEGORIES:Meetup,Networking
ATTACH;FMTTYPE=image/png:https://newportnewsva.com/wp-content/uploads/2022/07/188910_image-Euq3k1.png
GEO:36.841873;-76.089012
X-APPLE-STRUCTURED-LOCATION;VALUE=URI;X-ADDRESS=Jimmy G’s Chop House & Bistro Bar 3333 Virginia Beach Blvd Virginia Beach VA United States;X-APPLE-RADIUS=500;X-TITLE=3333 Virginia Beach Blvd:geo:-76.089012,36.841873
END:VEVENT
BEGIN:VEVENT
DTSTART;TZID=America/New_York:20260324T193000
DTEND;TZID=America/New_York:20260324T210000
DTSTAMP:20260421T171510
CREATED:20260323T232415Z
LAST-MODIFIED:20260323T232415Z
UID:10002020-1774380600-1774386000@newportnewsva.com
SUMMARY:Geeks at a Bar- Peninsula Happy Hour
DESCRIPTION:Do you work with technology or for a tech company? Do you speak geek? Come network with other technology industry workers for a casual\, conversational happy hour.
URL:https://newportnewsva.com/event/geeks-at-a-bar-peninsula-happy-hour-6/
LOCATION:Marketplace at Tech Center\, 12090 Jefferson Ave\, Newport News\, VA\, United States
CATEGORIES:Meetup,Networking
ATTACH;FMTTYPE=image/png:https://newportnewsva.com/wp-content/uploads/2022/07/Screenshot-2026-01-20-at-1.08.19-PM-vDajGf.png
GEO:37.100215;-76.491146
X-APPLE-STRUCTURED-LOCATION;VALUE=URI;X-ADDRESS=Marketplace at Tech Center 12090 Jefferson Ave Newport News VA United States;X-APPLE-RADIUS=500;X-TITLE=12090 Jefferson Ave:geo:-76.491146,37.100215
END:VEVENT
BEGIN:VEVENT
DTSTART;TZID=America/New_York:20260427T183000
DTEND;TZID=America/New_York:20260427T200000
DTSTAMP:20260421T171510
CREATED:20260421T000739Z
LAST-MODIFIED:20260421T000739Z
UID:10002087-1777314600-1777320000@newportnewsva.com
SUMMARY:Norfolk.js: 670k People Watched Us Vibe Code
DESCRIPTION:Imagine being flown across the country to build a full-stack app from scratch in under four hours\, where you have to demo what you made in front of a dev influencer\, corporate recruiter\, and competing engineering teams regardless of if it’s finished or a broken mess.\nNow imagine that it’s all being filmed by a full production crew\, having to juggle team interviews and makeup touchups between code commits and debugging attempts\, all to make a video that’s been viewed over 670\,000 times! Terrifying right?\nRyan McGovern and Austin Galyon did exactly that while competing in a CodeTV Web Dev Challenge sponsored by Intuit\, where they built Pantry Party – a collaborative generative recipe app built using Astro\, Convex\, Clerk\, Netlify\, and the Claude API\, most of which they had never seen or used before that morning. They’ll share what the experience was actually like behind the scenes\, where AI-assisted coding helped\, where it completely failed\, and how their tooling has evolved since.\nAll skill levels welcome! The 757Dev Community means a lot to me\, and I thank each of you for your support. 🖖\nAs always\, HUGE thanks to Assembly for hosting. Learn more about the amenities and community of Assembly at https://www.assemblynfk.com/\nStreet parking is free after 6 pm. From 6:30-7:00 pm\, we will have someone at the door to let you in. After 7\, message the #javascript channel on 757Dev Slack. We meet in the Fur Room on the 4th floor.
URL:https://newportnewsva.com/event/norfolk-js-670k-people-watched-us-vibe-code/
LOCATION:Assembly\, 400 Granby St\, Norfolk\, VA\, United States
CATEGORIES:Meetup,Tech
ATTACH;FMTTYPE=image/png:https://newportnewsva.com/wp-content/uploads/2022/07/Screenshot-2026-04-20-at-3.13.03-PM-qlAB8h.png
GEO:36.851213;-76.289812
X-APPLE-STRUCTURED-LOCATION;VALUE=URI;X-ADDRESS=Assembly 400 Granby St Norfolk VA United States;X-APPLE-RADIUS=500;X-TITLE=400 Granby St:geo:-76.289812,36.851213
END:VEVENT
END:VCALENDAR