BEGIN:VCALENDAR
VERSION:2.0
PRODID:-//Newport News Economic Development Authority (EDA) - ECPv6.15.18//NONSGML v1.0//EN
CALSCALE:GREGORIAN
METHOD:PUBLISH
X-WR-CALNAME:Newport News Economic Development Authority (EDA)
X-ORIGINAL-URL:https://newportnewsva.com
X-WR-CALDESC:Events for Newport News Economic Development Authority (EDA)
REFRESH-INTERVAL;VALUE=DURATION:PT1H
X-Robots-Tag:noindex
X-PUBLISHED-TTL:PT1H
BEGIN:VTIMEZONE
TZID:America/New_York
BEGIN:DAYLIGHT
TZOFFSETFROM:-0500
TZOFFSETTO:-0400
TZNAME:EDT
DTSTART:20250309T070000
END:DAYLIGHT
BEGIN:STANDARD
TZOFFSETFROM:-0400
TZOFFSETTO:-0500
TZNAME:EST
DTSTART:20251102T060000
END:STANDARD
BEGIN:DAYLIGHT
TZOFFSETFROM:-0500
TZOFFSETTO:-0400
TZNAME:EDT
DTSTART:20260308T070000
END:DAYLIGHT
BEGIN:STANDARD
TZOFFSETFROM:-0400
TZOFFSETTO:-0500
TZNAME:EST
DTSTART:20261101T060000
END:STANDARD
BEGIN:DAYLIGHT
TZOFFSETFROM:-0500
TZOFFSETTO:-0400
TZNAME:EDT
DTSTART:20270314T070000
END:DAYLIGHT
BEGIN:STANDARD
TZOFFSETFROM:-0400
TZOFFSETTO:-0500
TZNAME:EST
DTSTART:20271107T060000
END:STANDARD
END:VTIMEZONE
BEGIN:VEVENT
DTSTART;TZID=America/New_York:20260222T150000
DTEND;TZID=America/New_York:20260222T190000
DTSTAMP:20260421T171106
CREATED:20260216T223858Z
LAST-MODIFIED:20260216T223858Z
UID:10001907-1771772400-1771786800@newportnewsva.com
SUMMARY:OFFWRLD. SESSIONS | Community Create Day
DESCRIPTION:OFFWRLD. SESSIONS: Community Create Day is an open\, immersive creative experience designed to bring together artists\, musicians\, writers\, designers\, and storytellers from across the 757. This is not a traditional showcase—it’s a live creation space where process is celebrated just as much as the final product.\nFrom the moment doors open\, the building transforms into a multi-room creative playground. Attendees are invited to explore\, connect\, and create in real time. A digital building map will be released ahead of the event and available on-site\, highlighting designated areas for different creative mediums throughout the space.
URL:https://newportnewsva.com/event/offwrld-sessions-community-create-day/
LOCATION:Assembly\, 400 Granby St\, Norfolk\, VA\, United States
CATEGORIES:Just For Fun,Meetup
GEO:36.851213;-76.289812
X-APPLE-STRUCTURED-LOCATION;VALUE=URI;X-ADDRESS=Assembly 400 Granby St Norfolk VA United States;X-APPLE-RADIUS=500;X-TITLE=400 Granby St:geo:-76.289812,36.851213
END:VEVENT
END:VCALENDAR