BEGIN:VCALENDAR
VERSION:2.0
PRODID:-//Newport News Economic Development Authority (EDA) - ECPv6.15.18//NONSGML v1.0//EN
CALSCALE:GREGORIAN
METHOD:PUBLISH
X-ORIGINAL-URL:https://newportnewsva.com
X-WR-CALDESC:Events for Newport News Economic Development Authority (EDA)
REFRESH-INTERVAL;VALUE=DURATION:PT1H
X-Robots-Tag:noindex
X-PUBLISHED-TTL:PT1H
BEGIN:VTIMEZONE
TZID:America/New_York
BEGIN:DAYLIGHT
TZOFFSETFROM:-0500
TZOFFSETTO:-0400
TZNAME:EDT
DTSTART:20250309T070000
END:DAYLIGHT
BEGIN:STANDARD
TZOFFSETFROM:-0400
TZOFFSETTO:-0500
TZNAME:EST
DTSTART:20251102T060000
END:STANDARD
BEGIN:DAYLIGHT
TZOFFSETFROM:-0500
TZOFFSETTO:-0400
TZNAME:EDT
DTSTART:20260308T070000
END:DAYLIGHT
BEGIN:STANDARD
TZOFFSETFROM:-0400
TZOFFSETTO:-0500
TZNAME:EST
DTSTART:20261101T060000
END:STANDARD
BEGIN:DAYLIGHT
TZOFFSETFROM:-0500
TZOFFSETTO:-0400
TZNAME:EDT
DTSTART:20270314T070000
END:DAYLIGHT
BEGIN:STANDARD
TZOFFSETFROM:-0400
TZOFFSETTO:-0500
TZNAME:EST
DTSTART:20271107T060000
END:STANDARD
END:VTIMEZONE
BEGIN:VEVENT
DTSTART;TZID=America/New_York:20260219T180000
DTEND;TZID=America/New_York:20260219T200000
DTSTAMP:20260423T090929
CREATED:20260216T223906Z
LAST-MODIFIED:20260216T223906Z
UID:10001912-1771524000-1771531200@newportnewsva.com
SUMMARY:AI Collective-HR | AI ideation\, research\, and validation
DESCRIPTION:Using AI to Think Like a Successful Entrepreneur\nAn AI-powered ideation\, research\, and validation workshop\nBuilding ideas is easy. Proving they matter is hard.\nThis hands-on workshop is designed to help you use AI as a thinking partner to move faster from vague ideas to clearer\, validated directions. Instead of guessing or relying on gut instinct alone\, you will learn practical ways to use AI to challenge assumptions\, explore markets\, and pressure-test ideas before you invest too much time or energy.\nThis session focuses on how founders\, builders\, and teams can use AI to think more clearly\, ask better questions\, and make more informed decisions. No hype. No pitch decks. Just practical frameworks you can apply right away.\n🔍 What you’ll learn\nHow to use AI to generate and refine early-stage ideas\nTurning assumptions into research questions instead of guesses\nExploring customer and market perspectives with AI support\nSimple validation techniques you can use immediately\nHow to move from intuition-driven thinking to evidence-informed decisions\nThis is not about memorizing prompts or chasing tools. It is about learning how to think better with AI in the loop.
URL:https://newportnewsva.com/event/ai-collective-hr-ai-ideation-research-and-validation/
LOCATION:ECPI University\, 5555 Greenwich Rd\, Virginia Beach\, VA\, United States
CATEGORIES:AI,Meetup
ATTACH;FMTTYPE=image/avif:https://newportnewsva.com/wp-content/uploads/2022/07/AI-collective-2-scaled-1uBUzg.avif
GEO:36.842584;-76.176523
X-APPLE-STRUCTURED-LOCATION;VALUE=URI;X-ADDRESS=ECPI University 5555 Greenwich Rd Virginia Beach VA United States;X-APPLE-RADIUS=500;X-TITLE=5555 Greenwich Rd:geo:-76.176523,36.842584
END:VEVENT
END:VCALENDAR