BEGIN:VCALENDAR
VERSION:2.0
PRODID:-//Newport News Economic Development Authority (EDA) - ECPv6.15.18//NONSGML v1.0//EN
CALSCALE:GREGORIAN
METHOD:PUBLISH
X-WR-CALNAME:Newport News Economic Development Authority (EDA)
X-ORIGINAL-URL:https://newportnewsva.com
X-WR-CALDESC:Events for Newport News Economic Development Authority (EDA)
REFRESH-INTERVAL;VALUE=DURATION:PT1H
X-Robots-Tag:noindex
X-PUBLISHED-TTL:PT1H
BEGIN:VTIMEZONE
TZID:Africa/Abidjan
BEGIN:STANDARD
TZOFFSETFROM:+0000
TZOFFSETTO:+0000
TZNAME:GMT
DTSTART:20250101T000000
END:STANDARD
END:VTIMEZONE
BEGIN:VEVENT
DTSTART;TZID=Africa/Abidjan:20260227T120000
DTEND;TZID=Africa/Abidjan:20260227T130000
DTSTAMP:20260420T061807
CREATED:20260223T225736Z
LAST-MODIFIED:20260223T225736Z
UID:10001937-1772193600-1772197200@newportnewsva.com
SUMMARY:Investor Updates: The Key to Building Trust and Securing Future Funds
DESCRIPTION:Practical strategies to craft updates\, strengthen relationships\, and boost your odds of future funding with investors.\nJoin us for a focused 1-hour workshop on “Mastering Monthly Investor Updates: The Key to Building Trust and Securing Future Funding” with entrepreneurial ecosytem champion and angel investor\, Tim Ryan\, and founder of Where2Wheel\, Brittany Peregoff.\nWhether you’re a startup currently raising capital\, preparing for your very first round\, bootstrapped with no prior funding\, or still at pre-seed stage\, consistent monthly updates are one of the highest-leverage activities founders can do—even (and especially) before you have any investors on board. Regular communication helps you stay top-of-mind with potential backers\, demonstrate execution and momentum over time (investors fund “lines\, not dots”)\, build credibility through transparency\, and dramatically increase your odds of closing funding—studies show companies that send regular updates are up to 3x more likely to secure follow-on or initial capital.\n \nWhat You’ll Learn\nIn this practical session\, you’ll learn why a monthly cadence matters at every stage\, the essential elements of an effective update (highlights\, key metrics\, honest challenges\, next steps\, and clear asks)\, and proven templates and best practices used by top founders to engage current investors while warming up prospects for your next raise. Walk away with the tools to create the perfect investor update that strengthens relationships\, attracts help and intros\, and positions your startup for long-term fundraising success—no matter where you are on the journey. Perfect for founders who want to turn routine communication into a powerful advantage in raising capital!\n \nSecure your spot! Seating is limited and lunch is included.
URL:https://newportnewsva.com/event/investor-updates-the-key-to-building-trust-and-securing-future-funds/
LOCATION:REaKTOR\, 198 Fay Cir\, Yorktown\, VA\, United States
CATEGORIES:Business,Entrepreneurship,Home Based Business,Information Session,Tech
ATTACH;FMTTYPE=image/png:https://newportnewsva.com/wp-content/uploads/2022/07/189760_image-1YB53x.png
GEO:37.121559;-76.446052
X-APPLE-STRUCTURED-LOCATION;VALUE=URI;X-ADDRESS=REaKTOR 198 Fay Cir Yorktown VA United States;X-APPLE-RADIUS=500;X-TITLE=198 Fay Cir:geo:-76.446052,37.121559
END:VEVENT
END:VCALENDAR