BEGIN:VCALENDAR
VERSION:2.0
PRODID:-//Newport News Economic Development Authority (EDA) - ECPv6.15.18//NONSGML v1.0//EN
CALSCALE:GREGORIAN
METHOD:PUBLISH
X-WR-CALNAME:Newport News Economic Development Authority (EDA)
X-ORIGINAL-URL:https://newportnewsva.com
X-WR-CALDESC:Events for Newport News Economic Development Authority (EDA)
REFRESH-INTERVAL;VALUE=DURATION:PT1H
X-Robots-Tag:noindex
X-PUBLISHED-TTL:PT1H
BEGIN:VTIMEZONE
TZID:America/New_York
BEGIN:DAYLIGHT
TZOFFSETFROM:-0500
TZOFFSETTO:-0400
TZNAME:EDT
DTSTART:20250309T070000
END:DAYLIGHT
BEGIN:STANDARD
TZOFFSETFROM:-0400
TZOFFSETTO:-0500
TZNAME:EST
DTSTART:20251102T060000
END:STANDARD
BEGIN:DAYLIGHT
TZOFFSETFROM:-0500
TZOFFSETTO:-0400
TZNAME:EDT
DTSTART:20260308T070000
END:DAYLIGHT
BEGIN:STANDARD
TZOFFSETFROM:-0400
TZOFFSETTO:-0500
TZNAME:EST
DTSTART:20261101T060000
END:STANDARD
BEGIN:DAYLIGHT
TZOFFSETFROM:-0500
TZOFFSETTO:-0400
TZNAME:EDT
DTSTART:20270314T070000
END:DAYLIGHT
BEGIN:STANDARD
TZOFFSETFROM:-0400
TZOFFSETTO:-0500
TZNAME:EST
DTSTART:20271107T060000
END:STANDARD
END:VTIMEZONE
BEGIN:VTIMEZONE
TZID:Africa/Abidjan
BEGIN:STANDARD
TZOFFSETFROM:+0000
TZOFFSETTO:+0000
TZNAME:GMT
DTSTART:20250101T000000
END:STANDARD
END:VTIMEZONE
BEGIN:VEVENT
DTSTART;TZID=America/New_York:20260327T120000
DTEND;TZID=America/New_York:20260327T130000
DTSTAMP:20260423T162007
CREATED:20260323T232529Z
LAST-MODIFIED:20260323T232529Z
UID:10002039-1774612800-1774616400@newportnewsva.com
SUMMARY:Topic Talk - Customer Discovery in Practice: Turning Conversations into Insight
DESCRIPTION:Join Erik Berg for Customer Discovery in Practice: Turning Conversations into Insight. Drawing on his experience as a Senior Product Manager at Capital One and his MBA from the Wharton School\, Erik will share actionable approaches for uncovering customer needs\, testing assumptions\, and translating real conversations into meaningful product insights.\nHub Topic Talks is a platform where entrepreneurs share their remarkable journeys and their acquired industry expertise. These thought-provoking talks delve into specific industry-level topics\, offering not only deep insights and wisdom but also tangible action steps. Be inspired by the stories of those who have navigated the entrepreneurial landscape with degrees of failure and success. Don’t miss your chance to connect with industry experts and uncover the keys to success at Hub Talks! Attend in person at the Hub or virtually via Zoom!
URL:https://newportnewsva.com/event/topic-talk-customer-discovery-in-practice-turning-conversations-into-insight/
LOCATION:Tribe Square Entrepreneurship Hub\, 249 F St\, York Terrace\, VA\, United States
CATEGORIES:Entrepreneurship
ATTACH;FMTTYPE=image/png:https://newportnewsva.com/wp-content/uploads/2022/07/Screenshot-2026-03-07-at-11.30.20-PM-xyDyrV.png
GEO:37.286873;-76.593939
X-APPLE-STRUCTURED-LOCATION;VALUE=URI;X-ADDRESS=Tribe Square Entrepreneurship Hub 249 F St York Terrace VA United States;X-APPLE-RADIUS=500;X-TITLE=249 F St:geo:-76.593939,37.286873
END:VEVENT
BEGIN:VEVENT
DTSTART;TZID=Africa/Abidjan:20260327T120000
DTEND;TZID=Africa/Abidjan:20260327T133000
DTSTAMP:20260423T162007
CREATED:20260323T232528Z
LAST-MODIFIED:20260323T232528Z
UID:10002037-1774612800-1774618200@newportnewsva.com
SUMMARY:FREE Personal Branding\, Lunch & Learn
DESCRIPTION:**DO NOT REGISTER HERE! REGISTER AT THIS LINK HERE: https://www.eventbrite.com/e/free-personal-branding-lunch-learn-tickets-1983137190722 **\n**DO NOT REGISTER HERE! REGISTER AT THIS LINK HERE: https://www.eventbrite.com/e/free-personal-branding-lunch-learn-tickets-1983137190722 **  \nLearn how to leverage your influence\, with personal branding strategies.\nIn Partnership with the Virginia Beach SWaM business office and Open Door Media Solutions\, join us over Lunch for this FREE Personal Branding Master Class!\nUse Code ODMS0327 to get10% discount off your pizza order from our food sponsor Donatos Pizza.\nDuring this session\, we’ll discuss Personal Branding strategies that will help you earn and leverage your influence.\nIn this session\, we will discuss:\nPathways to becoming an authority & thought leader\nCreating a Values-Based Personal Brand\nBrand Archetypes\nBrand Voice and Tone\nVisual Branding\nDifferentiation\nThank you DONATOS PIZZA for providing this session’s FREE lunch! \nBefore the event\, use Code ODMS0327 to get a 10% discount on your pizza order!\nOffer Ends 3/27  \nSpecial offer available only at these locations:\nHilltop 1833 Republic Rd\, Virginia Beach\, VA 23454\nAND\nJefferson Marketplace\, 12515 Jefferson Ave. Newport News\, VA. (757) 525-4944  \nAdditional Exclusive Offers Available For Attendees
URL:https://newportnewsva.com/event/free-personal-branding-lunch-learn/
LOCATION:The HIVE by City of Virginia Beach\, 301 S Independence Blvd\, Virginia Beach\, VA\, United States
CATEGORIES:Business,Entrepreneurship,Home Based Business
GEO:36.829794;-76.136618
X-APPLE-STRUCTURED-LOCATION;VALUE=URI;X-ADDRESS=The HIVE by City of Virginia Beach 301 S Independence Blvd Virginia Beach VA United States;X-APPLE-RADIUS=500;X-TITLE=301 S Independence Blvd:geo:-76.136618,36.829794
END:VEVENT
BEGIN:VEVENT
DTSTART;TZID=Africa/Abidjan:20260327T123000
DTEND;TZID=Africa/Abidjan:20260327T153000
DTSTAMP:20260423T162007
CREATED:20260323T232528Z
LAST-MODIFIED:20260323T232528Z
UID:10002038-1774614600-1774625400@newportnewsva.com
SUMMARY:1-on-1 Marketing & Branding Support
DESCRIPTION:Sign up for  a free marketing and branding support session (virtual or in person @ The HIVE in VA Beach) using the Calendly link below!\nDO NOT Sign up Via EVENTBRITE! \nPLEASE use the following link to sign up for the event: Calendly\, DO NOT Sign up Via EVENTBRITE!\nProvided by Simon Matthews\, CEO of Open Door Media Solutions is here to provide advice and valuable resources to help you make a confident\, well-informed decision about your marketing! During your conversation\, he’ll take the time to understand your goals\, answer your questions\, and share insights tailored specifically to your business needs.\nSimply choose any day and time from the calendar that works best for you\, and lock in a session that fits your schedule. He looks forward to connecting with you soon and helping you take the next step toward achieving your marketing goals!
URL:https://newportnewsva.com/event/1-on-1-marketing-branding-support-11/
LOCATION:The HIVE by City of Virginia Beach\, 301 S Independence Blvd\, Virginia Beach\, VA\, United States
CATEGORIES:Business,Entrepreneurship,Home Based Business
ATTACH;FMTTYPE=image/png:https://newportnewsva.com/wp-content/uploads/2022/07/190321_image-7wErNR.png
GEO:36.829794;-76.136618
X-APPLE-STRUCTURED-LOCATION;VALUE=URI;X-ADDRESS=The HIVE by City of Virginia Beach 301 S Independence Blvd Virginia Beach VA United States;X-APPLE-RADIUS=500;X-TITLE=301 S Independence Blvd:geo:-76.136618,36.829794
END:VEVENT
END:VCALENDAR