BEGIN:VCALENDAR
VERSION:2.0
PRODID:-//Newport News Economic Development Authority (EDA) - ECPv6.15.18//NONSGML v1.0//EN
CALSCALE:GREGORIAN
METHOD:PUBLISH
X-ORIGINAL-URL:https://newportnewsva.com
X-WR-CALDESC:Events for Newport News Economic Development Authority (EDA)
REFRESH-INTERVAL;VALUE=DURATION:PT1H
X-Robots-Tag:noindex
X-PUBLISHED-TTL:PT1H
BEGIN:VTIMEZONE
TZID:America/New_York
BEGIN:DAYLIGHT
TZOFFSETFROM:-0500
TZOFFSETTO:-0400
TZNAME:EDT
DTSTART:20250309T070000
END:DAYLIGHT
BEGIN:STANDARD
TZOFFSETFROM:-0400
TZOFFSETTO:-0500
TZNAME:EST
DTSTART:20251102T060000
END:STANDARD
BEGIN:DAYLIGHT
TZOFFSETFROM:-0500
TZOFFSETTO:-0400
TZNAME:EDT
DTSTART:20260308T070000
END:DAYLIGHT
BEGIN:STANDARD
TZOFFSETFROM:-0400
TZOFFSETTO:-0500
TZNAME:EST
DTSTART:20261101T060000
END:STANDARD
BEGIN:DAYLIGHT
TZOFFSETFROM:-0500
TZOFFSETTO:-0400
TZNAME:EDT
DTSTART:20270314T070000
END:DAYLIGHT
BEGIN:STANDARD
TZOFFSETFROM:-0400
TZOFFSETTO:-0500
TZNAME:EST
DTSTART:20271107T060000
END:STANDARD
END:VTIMEZONE
BEGIN:VTIMEZONE
TZID:Africa/Abidjan
BEGIN:STANDARD
TZOFFSETFROM:+0000
TZOFFSETTO:+0000
TZNAME:GMT
DTSTART:20250101T000000
END:STANDARD
END:VTIMEZONE
BEGIN:VEVENT
DTSTART;TZID=America/New_York:20260225T120000
DTEND;TZID=America/New_York:20260225T130000
DTSTAMP:20260423T121419
CREATED:20260223T225615Z
LAST-MODIFIED:20260223T225615Z
UID:10001930-1772020800-1772024400@newportnewsva.com
SUMMARY:Strategic Thinking 101
DESCRIPTION:Strategic Thinking 101: every business decision shapes your future. Join us for a collaborative virtual workshop where we’ll explore how to evaluate choices not just for today\, but for where you want to be next month\, next quarter\, and next year. We’ll discuss practical ways to assess your capacity\, avoid common traps\, and make decisions your future self will appreciate.Who should attend: Any business owner who wants to move from reactive decision-making to intentional planning – whether you’re just starting out or looking to take your established business to the next level.\n \nSpeaker(s): Jordan Hanna Gray\nFee: No Cost
URL:https://newportnewsva.com/event/strategic-thinking-101/
LOCATION:Virtual
CATEGORIES:Business,Entrepreneurship,Home Based Business
END:VEVENT
BEGIN:VEVENT
DTSTART;TZID=America/New_York:20260225T120000
DTEND;TZID=America/New_York:20260225T133000
DTSTAMP:20260423T121419
CREATED:20260223T225614Z
LAST-MODIFIED:20260223T225614Z
UID:10001929-1772020800-1772026200@newportnewsva.com
SUMMARY:Storytelling that Sells: 6 Techniques for Brand\, Sales\, Marketing & Pitching
DESCRIPTION:Most founders struggle to explain what they do in a way that lands.\n​​You’ve got traction\, a great product\, maybe even a team — but when you try to describe it to a potential customer\, investor\, or partner\, the story falls flat.\n​​This isn’t a branding problem.\nIt’s a storytelling problem.\n​​In this 90-minute\, high-touch session\, you’ll learn how to:\n​​Use storytelling to reduce risk and drive decisions\n​​Adapt your message for investors\, buyers\, or marketing content\n​​Build clarity around your value using 6 powerful frameworks\n​​Pitch transformation — not just features\n​​This session is for startup founders who need to sharpen how they show up for:\n​​Sales\n​​Marketing\n​​Pitching\n \n​​You’ll leave with:\nA tested storytelling toolkit you can plug into your next email\, pitch deck\, or sales call — immediately.\n \n*Please Note: This event is the first of the new 2026 Founder Roadmap Series presented by RedwoodRISE Ventures – More events to follow!*
URL:https://newportnewsva.com/event/storytelling-that-sells-6-techniques-for-brand-sales-marketing-pitching/
LOCATION:Virtual
CATEGORIES:Business,Entrepreneurship,Virtual
ATTACH;FMTTYPE=image/avif:https://newportnewsva.com/wp-content/uploads/2022/07/2026-Founder-Roadmap-ET4y52.avif
END:VEVENT
BEGIN:VEVENT
DTSTART;TZID=Africa/Abidjan:20260225T163000
DTEND;TZID=Africa/Abidjan:20260225T183000
DTSTAMP:20260423T121419
CREATED:20260223T225555Z
LAST-MODIFIED:20260223T225555Z
UID:10001927-1772037000-1772044200@newportnewsva.com
SUMMARY:Innovators Invite: Innovators Making Waves in the 757
DESCRIPTION:Join us for a conversation with the voices shaping the future of the region.\nInnovators Invite: Innovators Making Waves in the 757\nGet ready to hear from the minds shaking things up in the area! This event series is all about celebrating the bold\, the creative\, and the game-changers making big moves locally. Don’t miss out on the chance to be part of the wave that’s transforming our community. This event is free to attend.\nPanelists:\nAtiq Bhatti\, MD-MS\nGuillermo Fisher\, 757ColorCoded\, Inc.\nTim Masterson\, Paramount +\nChelsea Olivieri\, Virginia Tech Corporate Research Center\nKaty Schuck\, Reelist\nModerated by Kevin Leslie\, Old Dominion University\nLine Up4:30PM- Registration & Networking5:00PM – Panel Discussion Begins5:45PM – Q&A6:00PM – Connect\, Chat & Refreshments
URL:https://newportnewsva.com/event/innovators-invite-innovators-making-waves-in-the-757/
LOCATION:Assembly\, 400 Granby St\, Norfolk\, VA\, United States
CATEGORIES:Angel Investing,Business,Entrepreneurship,NIC
ATTACH;FMTTYPE=image/jpeg:https://newportnewsva.com/wp-content/uploads/2022/07/189550_image-scaled-zjLbUD.jpg
GEO:36.851213;-76.289812
X-APPLE-STRUCTURED-LOCATION;VALUE=URI;X-ADDRESS=Assembly 400 Granby St Norfolk VA United States;X-APPLE-RADIUS=500;X-TITLE=400 Granby St:geo:-76.289812,36.851213
END:VEVENT
BEGIN:VEVENT
DTSTART;TZID=Africa/Abidjan:20260225T180000
DTEND;TZID=Africa/Abidjan:20260225T200000
DTSTAMP:20260423T121419
CREATED:20260223T225526Z
LAST-MODIFIED:20260223T225526Z
UID:10001926-1772042400-1772049600@newportnewsva.com
SUMMARY:Pottery Studio: Intro to the Wheel with Evan (NFK Single Session 15+)
DESCRIPTION:Beginner friendly pottery wheel class. Get messy\, try the wheel\, make your first pieces\, and have fun in a relaxed studio setting.\nEver wanted to try the pottery wheel but were not sure where to start. This single session class is your invite. Total beginners are welcome and no experience is needed.  \nYou will sit down at your own wheel and learn the basics step by step with Evan. How to center clay. How to shape simple forms. How to fix wobbles. How to pull the walls up without collapsing them. Expect to get your hands dirty and have some fun. The goal is not perfection. The goal is trying something new and enjoying the process.  \nEvan will demo and then coach you at the wheel so you always know what to do next. You will also get a simple overview of clay and glazes so the full journey from wet clay to finished pot actually makes sense.  \nThis class is perfect if you are curious about pottery\, want a fun creative night out\, or just need a stress reset with your hands in clay.  \nWhat is included:\nAll materials provided\nUse of wheels\, tools\, and studio space during class\nGuided instruction in small groups  \nImportant notes\nSingle session intro class\nAges 15 and up\nWork will not be fired or glazed in this session\nWear comfortable clothes and closed toe shoes you do not mind getting messy\nBring an apron if you like  \nCome play in the clay\, meet good people\, and try something new at 757 Makerspace Norfolk.
URL:https://newportnewsva.com/event/pottery-studio-intro-to-the-wheel-with-evan-nfk-single-session-15-4/
LOCATION:757 Makerspace\, 737 E 23rd St\, Norfolk\, VA\, United States
CATEGORIES:757 Maker Space,Business,Entrepreneurship,Home Based Business
ATTACH;FMTTYPE=image/png:https://newportnewsva.com/wp-content/uploads/2022/07/189847_image-A2EKJr.png
GEO:36.868491;-76.278242
X-APPLE-STRUCTURED-LOCATION;VALUE=URI;X-ADDRESS=757 Makerspace 737 E 23rd St Norfolk VA United States;X-APPLE-RADIUS=500;X-TITLE=737 E 23rd St:geo:-76.278242,36.868491
END:VEVENT
BEGIN:VEVENT
DTSTART;TZID=Africa/Abidjan:20260225T183000
DTEND;TZID=Africa/Abidjan:20260225T203000
DTSTAMP:20260423T121419
CREATED:20260223T225506Z
LAST-MODIFIED:20260223T225506Z
UID:10001925-1772044200-1772051400@newportnewsva.com
SUMMARY:Introduction to Screen Printing and Print Making with Dula (NFK 16+)
DESCRIPTION:Learn the hands-on process of screenprinting at 757 Makerspace!\nWelcome to our Introduction to Screen Printing and Print Making class!\nDo you want to learn the process of transforming a blank canvas into a work of art? Then this class is perfect for you!\nOur experienced instructors will guide you through the entire screen printing process from start to finish. You’ll learn how to create your own stencils\, mix ink\, and print your designs onto a variety of surfaces including paper\, fabric\, and more.\nNot only will you leave the class with a newfound appreciation for this amazing art form\, but you’ll also have your own personalized prints to show off to your friends and family.\nSo why wait? Come join us for a fun-filled evening of creativity and self-expression. Whether you’re a seasoned artist or just starting out\, this class is open to all skill levels. We can’t wait to see what you create!\nIncluded:\n-Tote Bag or T-Shirt (depending on what we are making that night)  \nOptional:\n– You may bring two more articles to be printed on (ex. shirt or tote)
URL:https://newportnewsva.com/event/introduction-to-screen-printing-and-print-making-with-dula-nfk-16-3/
LOCATION:757 Makerspace – Norfolk\, 737 E 23rd St\, Norfolk\, VA\, United States
CATEGORIES:757 Maker Space,Business,Entrepreneurship,Home Based Business
ATTACH;FMTTYPE=image/png:https://newportnewsva.com/wp-content/uploads/2022/07/189849_image-26ypC8.png
GEO:36.868491;-76.278242
X-APPLE-STRUCTURED-LOCATION;VALUE=URI;X-ADDRESS=757 Makerspace – Norfolk 737 E 23rd St Norfolk VA United States;X-APPLE-RADIUS=500;X-TITLE=737 E 23rd St:geo:-76.278242,36.868491
END:VEVENT
END:VCALENDAR