BEGIN:VCALENDAR
VERSION:2.0
PRODID:-//Newport News Economic Development Authority (EDA) - ECPv6.15.18//NONSGML v1.0//EN
CALSCALE:GREGORIAN
METHOD:PUBLISH
X-ORIGINAL-URL:https://newportnewsva.com
X-WR-CALDESC:Events for Newport News Economic Development Authority (EDA)
REFRESH-INTERVAL;VALUE=DURATION:PT1H
X-Robots-Tag:noindex
X-PUBLISHED-TTL:PT1H
BEGIN:VTIMEZONE
TZID:Africa/Abidjan
BEGIN:STANDARD
TZOFFSETFROM:+0000
TZOFFSETTO:+0000
TZNAME:GMT
DTSTART:20250101T000000
END:STANDARD
END:VTIMEZONE
BEGIN:VEVENT
DTSTART;VALUE=DATE:20260220
DTEND;VALUE=DATE:20260223
DTSTAMP:20260423T073924
CREATED:20260216T223858Z
LAST-MODIFIED:20260216T223858Z
UID:10001908-1771545600-1771804799@newportnewsva.com
SUMMARY:Techstars Startup Weekend
DESCRIPTION:Startup Weekend is a global\, 54-hour event where entrepreneurs\, developers\, designers\, and other professionals collaborate to turn an idea into a startup over a single weekend.\nPerfect for emerging executives developing an entrepreneurial mindset.\nFebruary 20 – 22\, 2026\nIn this three-day program aspiring entrepreneurs experience startup life. It is a creative and collaborative educational event over a Friday\, Saturday\, and Sunday. Open to the public\, anyone can develop and pitch new startup ideas. From executive product owners to independent inventors\, all are welcome.
URL:https://newportnewsva.com/event/techstars-startup-weekend/
LOCATION:University of Richmond
CATEGORIES:Entrepreneurship
ATTACH;FMTTYPE=image/png:https://newportnewsva.com/wp-content/uploads/2022/07/Startup-Weekend-Red-on-Black-sIy3pW.png
END:VEVENT
BEGIN:VEVENT
DTSTART;VALUE=DATE:20260220
DTEND;VALUE=DATE:20260223
DTSTAMP:20260423T073924
CREATED:20260216T223903Z
LAST-MODIFIED:20260216T223903Z
UID:10001911-1771545600-1771804799@newportnewsva.com
SUMMARY:757 BLD WKND 2026
DESCRIPTION:Hampton Road’s first hackathon supported by the 757 Startup Studios and Assembly.\nIf you like to build and create\, this event is for you. Picture a vibrant space where entrepreneurs\, students\, and professionals converge to build whatever they want—from innovative new projects to wacky ideas. The best projects\, as determined by our panel of expert and investor judges\, will have opportunities to win prizes and bragging rights. From the initial brainstorming to the final pitch\, you’ll experience a weekend-long version of the entrepreneurial journey.\nUnlike a traditional “hackathon”\, we have a broad sense of the word “build” — whether you’re technical or non-technical\, we want you to build together! This event is also an ideal platform to find talent or collaborators to bring your idea to life. The event will occur over three days at the 757 Startup Studios within the Assembly campus in Norfolk\, VA.
URL:https://newportnewsva.com/event/757-bld-wknd-2026-4/
LOCATION:757 Startup Studios @ Assembly\, 400 Granby St\, Norfolk\, VA\, United States
CATEGORIES:757 Startup Studios,Entrepreneurship,Just For Fun
ATTACH;FMTTYPE=image/png:https://newportnewsva.com/wp-content/uploads/2022/07/757-bld-wknd-xohHaL.png
GEO:36.851213;-76.289812
X-APPLE-STRUCTURED-LOCATION;VALUE=URI;X-ADDRESS=757 Startup Studios @ Assembly 400 Granby St Norfolk VA United States;X-APPLE-RADIUS=500;X-TITLE=400 Granby St:geo:-76.289812,36.851213
END:VEVENT
BEGIN:VEVENT
DTSTART;TZID=Africa/Abidjan:20260221T120000
DTEND;TZID=Africa/Abidjan:20260221T140000
DTSTAMP:20260423T073924
CREATED:20260216T223833Z
LAST-MODIFIED:20260216T223833Z
UID:10001905-1771675200-1771682400@newportnewsva.com
SUMMARY:Learn to 3D Model with Autodesk Fusion for 3D Printing
DESCRIPTION:Learn how to 3d model with Autodesk Fusion to design and make your own ideas in 3d printing.\nReady to move past downloading files and start creating your own 3D printable designs. This beginner friendly class will teach you how to model your ideas in Autodesk Fusion so you can bring them to life on a 3D printer.  \nThis session is for ages 16 and up and is adult focused. No prior modeling experience is required. You do not need to know how to use Fusion yet. You just need it installed and ready to open when you arrive.  \nImportant note for this class\nBring a laptop\nHave Autodesk Fusion already installed and updated before class begins\nCreate or sign in to your Autodesk account ahead of time (free to download: http://fusion.autodesk.com)\nIf you are unsure which version to install we can point you in the right direction in advance  \nWhat you will learn\nHow the Fusion workspace is set up and how to navigate it\nSketching the basic shapes that become real 3D objects\nExtruding and modifying parts to match your idea\nHow to think like a designer for 3D printing success\nHow to export files that are ready to slice and print  \nThis class is perfect if you want to design custom parts\, cosplay pieces\, art objects\, replacement items around the house\, or you just want to unlock what your printer can really do when you control the design yourself.  \nCome ready to click\, experiment\, make mistakes\, and learn. Save your seat and start designing your own 3D prints.
URL:https://newportnewsva.com/event/learn-to-3d-model-with-autodesk-fusion-for-3d-printing/
LOCATION:757 Makerspace\, 737 E 23rd St\, Norfolk\, VA\, United States
CATEGORIES:757 Maker Space,Business,Entrepreneurship,Home Based Business
ATTACH;FMTTYPE=image/png:https://newportnewsva.com/wp-content/uploads/2022/07/189851_image-76a2hr.png
GEO:36.868491;-76.278242
X-APPLE-STRUCTURED-LOCATION;VALUE=URI;X-ADDRESS=757 Makerspace 737 E 23rd St Norfolk VA United States;X-APPLE-RADIUS=500;X-TITLE=737 E 23rd St:geo:-76.278242,36.868491
END:VEVENT
END:VCALENDAR