BEGIN:VCALENDAR
VERSION:2.0
PRODID:-//Newport News Economic Development Authority (EDA) - ECPv6.15.18//NONSGML v1.0//EN
CALSCALE:GREGORIAN
METHOD:PUBLISH
X-ORIGINAL-URL:https://newportnewsva.com
X-WR-CALDESC:Events for Newport News Economic Development Authority (EDA)
REFRESH-INTERVAL;VALUE=DURATION:PT1H
X-Robots-Tag:noindex
X-PUBLISHED-TTL:PT1H
BEGIN:VTIMEZONE
TZID:America/New_York
BEGIN:DAYLIGHT
TZOFFSETFROM:-0500
TZOFFSETTO:-0400
TZNAME:EDT
DTSTART:20250309T070000
END:DAYLIGHT
BEGIN:STANDARD
TZOFFSETFROM:-0400
TZOFFSETTO:-0500
TZNAME:EST
DTSTART:20251102T060000
END:STANDARD
BEGIN:DAYLIGHT
TZOFFSETFROM:-0500
TZOFFSETTO:-0400
TZNAME:EDT
DTSTART:20260308T070000
END:DAYLIGHT
BEGIN:STANDARD
TZOFFSETFROM:-0400
TZOFFSETTO:-0500
TZNAME:EST
DTSTART:20261101T060000
END:STANDARD
BEGIN:DAYLIGHT
TZOFFSETFROM:-0500
TZOFFSETTO:-0400
TZNAME:EDT
DTSTART:20270314T070000
END:DAYLIGHT
BEGIN:STANDARD
TZOFFSETFROM:-0400
TZOFFSETTO:-0500
TZNAME:EST
DTSTART:20271107T060000
END:STANDARD
END:VTIMEZONE
BEGIN:VEVENT
DTSTART;TZID=America/New_York:20260219T100000
DTEND;TZID=America/New_York:20260219T120000
DTSTAMP:20260421T172208
CREATED:20260209T222454Z
LAST-MODIFIED:20260216T223833Z
UID:10001900-1771495200-1771502400@newportnewsva.com
SUMMARY:Building Your Value Proposition Design (VPD) Webinar
DESCRIPTION:Please join Senior Business Counselor\, and Adjunct GMU Professor George Siragusa\, as he guides you through a step-by-step process of building your Value Proposition Design which is invaluable to startups\, early stage companies\, growth\, or even mature businesses!\nThe Value Proposition Design (VPD) is a framework that enables businesses to develop and solidify their foundational ideas for how they will create\, communicate\, deliver and then extract marketplace value for a differentiated product or service intended to solve a specific problem aligned with a specific customer need while delivering tangible benefits\, for an intended potential customer segment in a domain space or industry sector. It lives inside something called the Business Model Canvas\, another important foundational business framework.
URL:https://newportnewsva.com/event/building-your-value-proposition-design-vpd-webinar/
LOCATION:Virtual
CATEGORIES:Business,Entrepreneurship,SBDC
END:VEVENT
END:VCALENDAR