BEGIN:VCALENDAR
VERSION:2.0
PRODID:-//Newport News Economic Development Authority (EDA) - ECPv6.15.18//NONSGML v1.0//EN
CALSCALE:GREGORIAN
METHOD:PUBLISH
X-ORIGINAL-URL:https://newportnewsva.com
X-WR-CALDESC:Events for Newport News Economic Development Authority (EDA)
REFRESH-INTERVAL;VALUE=DURATION:PT1H
X-Robots-Tag:noindex
X-PUBLISHED-TTL:PT1H
BEGIN:VTIMEZONE
TZID:America/New_York
BEGIN:DAYLIGHT
TZOFFSETFROM:-0500
TZOFFSETTO:-0400
TZNAME:EDT
DTSTART:20250309T070000
END:DAYLIGHT
BEGIN:STANDARD
TZOFFSETFROM:-0400
TZOFFSETTO:-0500
TZNAME:EST
DTSTART:20251102T060000
END:STANDARD
BEGIN:DAYLIGHT
TZOFFSETFROM:-0500
TZOFFSETTO:-0400
TZNAME:EDT
DTSTART:20260308T070000
END:DAYLIGHT
BEGIN:STANDARD
TZOFFSETFROM:-0400
TZOFFSETTO:-0500
TZNAME:EST
DTSTART:20261101T060000
END:STANDARD
BEGIN:DAYLIGHT
TZOFFSETFROM:-0500
TZOFFSETTO:-0400
TZNAME:EDT
DTSTART:20270314T070000
END:DAYLIGHT
BEGIN:STANDARD
TZOFFSETFROM:-0400
TZOFFSETTO:-0500
TZNAME:EST
DTSTART:20271107T060000
END:STANDARD
END:VTIMEZONE
BEGIN:VEVENT
DTSTART;TZID=America/New_York:20260203T173000
DTEND;TZID=America/New_York:20260203T190000
DTSTAMP:20260420T045756
CREATED:20260202T220548Z
LAST-MODIFIED:20260202T220548Z
UID:10001854-1770139800-1770145200@newportnewsva.com
SUMMARY:B-Force Info Session #1
DESCRIPTION:Are you ready to become 10X’s more fundable? Register to attend this B-Force info session to apply for the upcoming cohort!\nWhat to Expect:\nOrientation: Get an inside scoop on what our upcoming cohort has in store for you. Discover the transformative opportunities awaiting your business.\nProgram Details: Learn all about B-Force Accelerator\, mentorship opportunities\, access to capital resources\, and specialized support designed to propel your business forward.\nApplication Information: Get the chance to apply on the spot or receive the application link directly during the session.\nWhy B-Force?\nB-Force helps you to strengthen your existing business model\, supercharge your operations\, create a path for scaling\, build a great team\, and get ready to take on capital. Our accelerator isn’t just a program; it’s an ecosystem and a pathway to more and more success!\nDon’t miss this opportunity to learn about our upcoming cohort and supercharge your entrepreneurial journey! Reserve your spot today by registering today to attend this info session. Together\, let’s transform your business dreams into reality with B-Force!
URL:https://newportnewsva.com/event/b-force-info-session-1/
LOCATION:Black BRAND\, 520 E Main St\, Norfolk\, VA\, United States
CATEGORIES:Black BRAND,Business,Entrepreneurship,Information Session
ATTACH;FMTTYPE=image/png:https://newportnewsva.com/wp-content/uploads/2022/07/B-Force-ICmY1j.png
GEO:36.84591;-76.289212
X-APPLE-STRUCTURED-LOCATION;VALUE=URI;X-ADDRESS=Black BRAND 520 E Main St Norfolk VA United States;X-APPLE-RADIUS=500;X-TITLE=520 E Main St:geo:-76.289212,36.84591
END:VEVENT
BEGIN:VEVENT
DTSTART;TZID=America/New_York:20260204T180000
DTEND;TZID=America/New_York:20260204T193000
DTSTAMP:20260420T045756
CREATED:20260202T220637Z
LAST-MODIFIED:20260202T220637Z
UID:10001861-1770228000-1770233400@newportnewsva.com
SUMMARY:SURGE Newport News Info Session #1
DESCRIPTION:Are you finally ready to start your business? Do you want to take your new business to the next level?\nRegister to attend this SURGE info session and apply for the upcoming cohort!\nWhat to Expect:\nOrientation: Get an inside look at how SURGE equips you with the management and financial tools to build and sustain a successful business. Learn how this program can transform your business goals into actionable plans to launch and grow your business.\nProgram Details: Discover the 12-week curriculum focused on business fundamentals\, financial management strategies\, and actionable steps to help you grow your company and increase your household income.\nApplication Information: Apply on the spot or receive the application link during the session to secure your spot in the next cohort.\nWhy SURGE?\nSURGE helps aspiring and new entrepreneurs master the essentials of running a business\, from crafting a solid business idea\, developing a master pitch\, learning about pricing strategy\, to understanding financial strategies that support long-term success. This isn’t just a program – it’s a launchpad for your entrepreneurial journey.\nDon’t miss your chance to learn more about our upcoming cohort and take the first step toward achieving your business goals. Register now for an info session and get started with SURGE!
URL:https://newportnewsva.com/event/surge-newport-news-info-session-1/
LOCATION:Brooks Crossing\, 550 30th St\, Newport News\, VA\, United States
CATEGORIES:Black BRAND,Business,Entrepreneurship
ATTACH;FMTTYPE=image/png:https://newportnewsva.com/wp-content/uploads/2022/07/IHR-Events-image-hUfJYn.png
GEO:36.984042;-76.424446
X-APPLE-STRUCTURED-LOCATION;VALUE=URI;X-ADDRESS=Brooks Crossing 550 30th St Newport News VA United States;X-APPLE-RADIUS=500;X-TITLE=550 30th St:geo:-76.424446,36.984042
END:VEVENT
END:VCALENDAR