BEGIN:VCALENDAR
VERSION:2.0
PRODID:-//Newport News Economic Development Authority (EDA) - ECPv6.15.18//NONSGML v1.0//EN
CALSCALE:GREGORIAN
METHOD:PUBLISH
X-WR-CALNAME:Newport News Economic Development Authority (EDA)
X-ORIGINAL-URL:https://newportnewsva.com
X-WR-CALDESC:Events for Newport News Economic Development Authority (EDA)
REFRESH-INTERVAL;VALUE=DURATION:PT1H
X-Robots-Tag:noindex
X-PUBLISHED-TTL:PT1H
BEGIN:VTIMEZONE
TZID:Africa/Abidjan
BEGIN:STANDARD
TZOFFSETFROM:+0000
TZOFFSETTO:+0000
TZNAME:GMT
DTSTART:20250101T000000
END:STANDARD
END:VTIMEZONE
BEGIN:VEVENT
DTSTART;TZID=Africa/Abidjan:20260204T180000
DTEND;TZID=Africa/Abidjan:20260204T200000
DTSTAMP:20260425T074521
CREATED:20260202T220615Z
LAST-MODIFIED:20260202T220615Z
UID:10001859-1770228000-1770235200@newportnewsva.com
SUMMARY:Handbuilt Conversation Heart Coasters
DESCRIPTION:Handbuilding with Clay at 757 Makerspace\nCelebrate Valentine’s season with a hands-on clay workshop focused on slab-built\, conversation heart–inspired coasters. In this beginner-friendly class\, participants will learn core handbuilding techniques including rolling slabs\, cutting shapes\, stamping text\, refining edges\, and finishing surfaces.\nUsing classic conversation heart designs with a local twist\, you’ll create a set of heart-shaped coasters that are both playful and functional. No prior clay experience is required—this class is designed for makers of all skill levels.  \nAll materials and tools are provided.\nAt the end of the session\, participants will leave their work at the studio for drying\, glazing\, and final firing. Finished pieces will be ready for pickup within 5 days of the class.
URL:https://newportnewsva.com/event/handbuilt-conversation-heart-coasters/
LOCATION:757 Makerspace – Norfolk\, 737 E 23rd St\, Norfolk\, VA\, United States
CATEGORIES:757 Maker Space,Business,Entrepreneurship,Home Based Business
ATTACH;FMTTYPE=image/png:https://newportnewsva.com/wp-content/uploads/2022/07/189029_image-IpkYeG.png
GEO:36.868491;-76.278242
X-APPLE-STRUCTURED-LOCATION;VALUE=URI;X-ADDRESS=757 Makerspace – Norfolk 737 E 23rd St Norfolk VA United States;X-APPLE-RADIUS=500;X-TITLE=737 E 23rd St:geo:-76.278242,36.868491
END:VEVENT
END:VCALENDAR