BEGIN:VCALENDAR
VERSION:2.0
PRODID:-//Newport News Economic Development Authority (EDA) - ECPv6.15.18//NONSGML v1.0//EN
CALSCALE:GREGORIAN
METHOD:PUBLISH
X-WR-CALNAME:Newport News Economic Development Authority (EDA)
X-ORIGINAL-URL:https://newportnewsva.com
X-WR-CALDESC:Events for Newport News Economic Development Authority (EDA)
REFRESH-INTERVAL;VALUE=DURATION:PT1H
X-Robots-Tag:noindex
X-PUBLISHED-TTL:PT1H
BEGIN:VTIMEZONE
TZID:Africa/Abidjan
BEGIN:STANDARD
TZOFFSETFROM:+0000
TZOFFSETTO:+0000
TZNAME:GMT
DTSTART:20250101T000000
END:STANDARD
END:VTIMEZONE
BEGIN:VTIMEZONE
TZID:America/New_York
BEGIN:DAYLIGHT
TZOFFSETFROM:-0500
TZOFFSETTO:-0400
TZNAME:EDT
DTSTART:20250309T070000
END:DAYLIGHT
BEGIN:STANDARD
TZOFFSETFROM:-0400
TZOFFSETTO:-0500
TZNAME:EST
DTSTART:20251102T060000
END:STANDARD
BEGIN:DAYLIGHT
TZOFFSETFROM:-0500
TZOFFSETTO:-0400
TZNAME:EDT
DTSTART:20260308T070000
END:DAYLIGHT
BEGIN:STANDARD
TZOFFSETFROM:-0400
TZOFFSETTO:-0500
TZNAME:EST
DTSTART:20261101T060000
END:STANDARD
BEGIN:DAYLIGHT
TZOFFSETFROM:-0500
TZOFFSETTO:-0400
TZNAME:EDT
DTSTART:20270314T070000
END:DAYLIGHT
BEGIN:STANDARD
TZOFFSETFROM:-0400
TZOFFSETTO:-0500
TZNAME:EST
DTSTART:20271107T060000
END:STANDARD
END:VTIMEZONE
BEGIN:VEVENT
DTSTART;TZID=Africa/Abidjan:20260421T090000
DTEND;TZID=Africa/Abidjan:20260421T150000
DTSTAMP:20260423T085122
CREATED:20260421T000442Z
LAST-MODIFIED:20260421T000442Z
UID:10002059-1776762000-1776783600@newportnewsva.com
SUMMARY:The Network: Direct Employer Access (Norfolk)
DESCRIPTION:Stop applying online. Start shaking hands. Bypass the resume “black hole.” Meet vetted hiring managers who know what your clearance is worth\nThe Algorithm Can’t Hire You. We Can.\nThe Problem: You spend hours tailoring your resume. You submit it to an online portal. You wait. You hear nothing. The “Black Hole” of online applications is the enemy of a fast transition.\nThe Solution: The Network is your bypass. We cut the red tape and put you in the room with the people who actually sign the offer letters.\nThis isn’t a “job fair” where you collect brochures. This is a tactical access point to the 757’s most aggressive military-hiring companies. We have vetted every employer in the room. They aren’t here to tell you to “apply on the website”—they are here to find their next team leader.\nWho Should Attend:\nTransitioning Service Members: Who are tired of the waiting game.\nMilitary Spouses: Looking for employers who understand the PCS lifestyle.\nVeterans: Ready to level up from their current civilian role.\nYour Rules of Engagement:\nBring Resumes if you have them BUT no biggie if you don’t.\nBe Social: No stress\, take your 30 seconds to tell them who you are. Make it count. Learn who they are and what they’re looking for. If it’s not you\, how you can help.\nThe job market is all about who you know. Come know the right people.\nIf you have any additional questions\, please do not hesitate to contact us:\nPhone: 757-807-0423\nEmail: militarycommunity@theworkforcecouncil.org\nThis event and the services provided herein at the Hampton Roads Veterans Employment Centers are funded through 25% or $199\,576 through the Workforce Innovation and Opportunity Act and 75% or $580\,391 through nonfederal sources.
URL:https://newportnewsva.com/event/the-network-direct-employer-access-norfolk-23/
LOCATION:Hampton Roads Veterans Employment Center (HRVEC)\, 861 Glenrock Rd\, Norfolk\, VA\, United States
ATTACH;FMTTYPE=image/png:https://newportnewsva.com/wp-content/uploads/2022/07/187919_image-scaled-bm9IU1.png
GEO:36.852838;-76.20158
X-APPLE-STRUCTURED-LOCATION;VALUE=URI;X-ADDRESS=Hampton Roads Veterans Employment Center (HRVEC) 861 Glenrock Rd Norfolk VA United States;X-APPLE-RADIUS=500;X-TITLE=861 Glenrock Rd:geo:-76.20158,36.852838
END:VEVENT
BEGIN:VEVENT
DTSTART;TZID=Africa/Abidjan:20260421T100000
DTEND;TZID=Africa/Abidjan:20260421T120000
DTSTAMP:20260423T085122
CREATED:20260421T000442Z
LAST-MODIFIED:20260421T000442Z
UID:10002060-1776765600-1776772800@newportnewsva.com
SUMMARY:One-on-One Business Mentoring with SCORE
DESCRIPTION:Need expert advice to grow your business?\nWhether you’re just starting out or looking to scale\, SCORE’s business mentors can help guide you through your next steps. Walk-ins are welcome\, but appointments are preferred to ensure you get the time and attention you need.
URL:https://newportnewsva.com/event/one-on-one-business-mentoring-with-score-20/
LOCATION:The HIVE by City of Virginia Beach\, 301 S Independence Blvd\, Virginia Beach\, VA\, United States
CATEGORIES:Business,Entrepreneurship,Home Based Business
ATTACH;FMTTYPE=image/png:https://newportnewsva.com/wp-content/uploads/2022/07/186906_image-Bp4cHo.png
GEO:36.829794;-76.136618
X-APPLE-STRUCTURED-LOCATION;VALUE=URI;X-ADDRESS=The HIVE by City of Virginia Beach 301 S Independence Blvd Virginia Beach VA United States;X-APPLE-RADIUS=500;X-TITLE=301 S Independence Blvd:geo:-76.136618,36.829794
END:VEVENT
BEGIN:VEVENT
DTSTART;TZID=America/New_York:20260421T130000
DTEND;TZID=America/New_York:20260421T150000
DTSTAMP:20260423T085122
CREATED:20260421T000534Z
LAST-MODIFIED:20260421T000534Z
UID:10002063-1776776400-1776783600@newportnewsva.com
SUMMARY:"Inside Out Culture" Leading People Through Strategic Culture Change
DESCRIPTION:ABOUT THE STRATEGIES\, PURPOSE\, PROGRESS SERIES A monthly seminar series featuring local business experts sharing insights on key topics. Typically held on the third Tuesday at the Virginia Peninsula Chamber Regional Conference Center.\nMembers: Free | Non-Members: $15
URL:https://newportnewsva.com/event/inside-out-culture-leading-people-through-strategic-culture-change/
LOCATION:Virginia Peninsula Chamber of Commerce\, 198 Fay Cir\, Yorktown\, VA\, United States
CATEGORIES:Business
ATTACH;FMTTYPE=image/png:https://newportnewsva.com/wp-content/uploads/2022/07/Screenshot-2026-04-06-at-11.02.31-AM-gFmECl.png
GEO:37.121559;-76.446052
X-APPLE-STRUCTURED-LOCATION;VALUE=URI;X-ADDRESS=Virginia Peninsula Chamber of Commerce 198 Fay Cir Yorktown VA United States;X-APPLE-RADIUS=500;X-TITLE=198 Fay Cir:geo:-76.446052,37.121559
END:VEVENT
BEGIN:VEVENT
DTSTART;TZID=Africa/Abidjan:20260421T140000
DTEND;TZID=Africa/Abidjan:20260421T150000
DTSTAMP:20260423T085122
CREATED:20260421T000442Z
LAST-MODIFIED:20260421T000442Z
UID:10002061-1776780000-1776783600@newportnewsva.com
SUMMARY:What Small Businesses Need to Know About CMMC Level 2
DESCRIPTION:Join us online to gain a practical understanding of the regulatory landscape and the most common readiness gaps small businesses face\nWhat Small Businesses Need to Know About CMMC Level 2\nThis webinar is designed to provide veteran-owned businesses and small government contractors with a clear\, practical understanding of the Cybersecurity Maturity Model Certification (CMMC) framework and what its enforcement means for organizations pursuing or supporting Department of Defense contracts. As CMMC Level 2 requirements move into active contract enforcement\, many small businesses operating within the defense industrial base face uncertainty about whether these requirements apply to them and what meaningful preparation actually looks like.
URL:https://newportnewsva.com/event/what-small-businesses-need-to-know-about-cmmc-level-2/
LOCATION:Online event
CATEGORIES:Business
ATTACH;FMTTYPE=image/jpeg:https://newportnewsva.com/wp-content/uploads/2022/07/191728_image-scaled-npXT3H.jpg
END:VEVENT
BEGIN:VEVENT
DTSTART;TZID=Africa/Abidjan:20260421T150000
DTEND;TZID=Africa/Abidjan:20260421T163000
DTSTAMP:20260423T085122
CREATED:20260421T000455Z
LAST-MODIFIED:20260421T000455Z
UID:10002062-1776783600-1776789000@newportnewsva.com
SUMMARY:SWaM Certification Information Session
DESCRIPTION:How Can SWaM Certification Benefit My Business?\nDO NOT Sign up Via EVENTBRITE! \n*****PLEASE use the following link to sign up for the event:*****\nhttps://www.eventbrite.com/e/swam-certification-information-session-tickets-1986536207272?aff=oddtdtcreator  \nHow Can SWaM Certification Benefit My Business?\nTHIS IS AN IN PERSON WORKSHOP AND WILL NOT BE RECORDED  \nJoin Us to learn more about SWaM Certification … This workshop is FREE to attend… MUST REGISTER TO RECEIVE UPDATES!!\nAre you a small\, women-owned\, or minority-owned business looking to expand your opportunities? The Virginia Department of Small Business and Supplier Diversity (SBSD) invites you to an informational session on the SWaM Certification process.\nWhy Get SWaM Certified?SWaM (Small\, Women-\, and Minority-Owned) certification is a powerful tool that can help your business secure contracts with:\nState Agencies\nPublic Colleges & Universities\nLocal Municipalities\nPrivate Sector Companies utilizing the SWaM database\nEach year\, the Commonwealth of Virginia spends over $8 billion on goods and services. Becoming SWaM certified can open doors to new business opportunities and increase your visibility among potential state buyers.\nWhat You’ll Learn in This Workshop:\nOverview of the SWaM Program\nEligibility requirements for certification (including Micro and Service-Disabled designations)\nStep-by-step guidance on how to apply\nHow to position yourself to bid with the Commonwealth of Virginia \nPresented by Angela Barber\, Business Services Manager – Hampton Roads/Eastern Shore Region.
URL:https://newportnewsva.com/event/swam-certification-information-session-2/
LOCATION:The HIVE by City of Virginia Beach\, 301 S Independence Blvd\, Virginia Beach\, VA\, United States
CATEGORIES:Business,Entrepreneurship,Home Based Business
ATTACH;FMTTYPE=image/png:https://newportnewsva.com/wp-content/uploads/2022/07/192256_image-jRgGmC.png
GEO:36.829794;-76.136618
X-APPLE-STRUCTURED-LOCATION;VALUE=URI;X-ADDRESS=The HIVE by City of Virginia Beach 301 S Independence Blvd Virginia Beach VA United States;X-APPLE-RADIUS=500;X-TITLE=301 S Independence Blvd:geo:-76.136618,36.829794
END:VEVENT
BEGIN:VEVENT
DTSTART;TZID=America/New_York:20260421T170000
DTEND;TZID=America/New_York:20260421T190000
DTSTAMP:20260423T085122
CREATED:20260421T000610Z
LAST-MODIFIED:20260421T000610Z
UID:10002065-1776790800-1776798000@newportnewsva.com
SUMMARY:INNOVATE Cyber Virtual Student Showcase & Pitch Event
DESCRIPTION:We’re excited to invite you to the upcoming INNOVATE Cyber Virtual Student Showcase & Pitch Event on Tuesday\, April 21 at 5:00 PM (ET) via Zoom.\nThis high-impact\, experiential learning event highlights the innovative work of undergraduate student teams across the Commonwealth of Virginia who have spent the semester tackling real-world cybersecurity challenges using a design thinking mindset and a human-centered approach.\nJoin us to:\nHear student pitches and innovative cybersecurity solutions with a human-centered approach\nLearn about their journeys and experiences\nExplore emerging talent and opportunities for deeper collaboration\nDate: Tuesday\, April 21\nTime: 5:00 PM (ET)\nLocation: Zoom Webinar – Join from anywhere\nRegister at this link to join us!
URL:https://newportnewsva.com/event/innovate-cyber-virtual-student-showcase-pitch-event/
LOCATION:Virtual
CATEGORIES:Pitch Event
ATTACH;FMTTYPE=image/png:https://newportnewsva.com/wp-content/uploads/2022/07/Innovate-Cyber-skasXF.png
END:VEVENT
BEGIN:VEVENT
DTSTART;TZID=Africa/Abidjan:20260421T180000
DTEND;TZID=Africa/Abidjan:20260421T200000
DTSTAMP:20260423T085122
CREATED:20260421T000542Z
LAST-MODIFIED:20260421T000542Z
UID:10002064-1776794400-1776801600@newportnewsva.com
SUMMARY:Marketing Made Simple for Small Business Owners
DESCRIPTION:Learn the difference between business and marketing plans\, plus simple 7Ps steps to build\, measure\, and improve your marketing.\nMany small business owners confuse a business plan with a marketing plan—and as a result\, struggle to attract and retain customers. This workshop clarifies the difference and provides a practical framework for developing a focused marketing strategy. Using the 7Ps of marketing\, you’ll learn how to define your offering\, reach the right audience\, and position your business effectively. The session also introduces key performance indicators (KPIs) to help you measure what’s working\, along with guidance on how to review and refine your marketing plan over time. You’ll leave with a clear\, structured approach to building and managing a marketing plan that supports your business goals.
URL:https://newportnewsva.com/event/marketing-made-simple-for-small-business-owners/
LOCATION:Ruppert Sargent Building\, 101 Franklin St\, Hampton\, VA\, United States
CATEGORIES:Business
ATTACH;FMTTYPE=image/png:https://newportnewsva.com/wp-content/uploads/2022/07/192099_image-scaled-waVa6e.png
GEO:37.026893;-76.347738
X-APPLE-STRUCTURED-LOCATION;VALUE=URI;X-ADDRESS=Ruppert Sargent Building 101 Franklin St Hampton VA United States;X-APPLE-RADIUS=500;X-TITLE=101 Franklin St:geo:-76.347738,37.026893
END:VEVENT
BEGIN:VEVENT
DTSTART;TZID=America/New_York:20260421T180000
DTEND;TZID=America/New_York:20260421T210000
DTSTAMP:20260423T085122
CREATED:20260421T000615Z
LAST-MODIFIED:20260421T000615Z
UID:10002066-1776794400-1776805200@newportnewsva.com
SUMMARY:Norfolk Cybersecurity Networking & Happy Hour
DESCRIPTION:From 6-9pm for a night of networking and fun at The OV Beach Tavern located in Ocean View\, Norfolk. Happy hour is till 8pm with fantastic deals\, check the 2nd image for details.\nConnect with fellow tech enthusiasts\, Information Security\, and Cybersecurity professionals in a relaxed atmosphere. Share ideas\, make new friends\, and enjoy delicious drinks and snacks. Don’t miss out on this opportunity to expand your professional circle and have a great time!\nFree tickets and further details are available at:\nhttps://www.eventbrite.com/e/1980179496178
URL:https://newportnewsva.com/event/norfolk-cybersecurity-networking-happy-hour-2/
LOCATION:The OV Beach Tavern\, 9659 First View St\, Norfolk\, VA\, United States
CATEGORIES:Networking
ATTACH;FMTTYPE=image/png:https://newportnewsva.com/wp-content/uploads/2022/07/Screenshot-2026-04-06-at-11.14.42-AM-2EgNnf.png
GEO:36.955638;-76.254259
X-APPLE-STRUCTURED-LOCATION;VALUE=URI;X-ADDRESS=The OV Beach Tavern 9659 First View St Norfolk VA United States;X-APPLE-RADIUS=500;X-TITLE=9659 First View St:geo:-76.254259,36.955638
END:VEVENT
BEGIN:VEVENT
DTSTART;TZID=Africa/Abidjan:20260421T213000
DTEND;TZID=Africa/Abidjan:20260421T233000
DTSTAMP:20260423T085122
CREATED:20260421T000621Z
LAST-MODIFIED:20260421T000621Z
UID:10002067-1776807000-1776814200@newportnewsva.com
SUMMARY:Locating the Missing Middle Roundtable
DESCRIPTION:Come out for a session led by AIA CoVA and hear from architecture firms WPA\, Dills\, and GARC about the barriers to missing middle housing — and how to overcome them. Explore why this walkable\, human-scale solution is still hard to build and the opportunities to bring it back. Tenants & members\, see the community portal for a special discount. – https://aiahr.starchapter.com/meetinginfo.php?id=517&ts=1773927228
URL:https://newportnewsva.com/event/locating-the-missing-middle-roundtable/
LOCATION:400 Granby St\, Norfolk\, VA\, United States
GEO:36.895911;-76.208521
END:VEVENT
END:VCALENDAR