BEGIN:VCALENDAR
VERSION:2.0
PRODID:-//Newport News Economic Development Authority (EDA) - ECPv6.15.18//NONSGML v1.0//EN
CALSCALE:GREGORIAN
METHOD:PUBLISH
X-ORIGINAL-URL:https://newportnewsva.com
X-WR-CALDESC:Events for Newport News Economic Development Authority (EDA)
REFRESH-INTERVAL;VALUE=DURATION:PT1H
X-Robots-Tag:noindex
X-PUBLISHED-TTL:PT1H
BEGIN:VTIMEZONE
TZID:Africa/Abidjan
BEGIN:STANDARD
TZOFFSETFROM:+0000
TZOFFSETTO:+0000
TZNAME:GMT
DTSTART:20250101T000000
END:STANDARD
END:VTIMEZONE
BEGIN:VTIMEZONE
TZID:America/New_York
BEGIN:DAYLIGHT
TZOFFSETFROM:-0500
TZOFFSETTO:-0400
TZNAME:EDT
DTSTART:20250309T070000
END:DAYLIGHT
BEGIN:STANDARD
TZOFFSETFROM:-0400
TZOFFSETTO:-0500
TZNAME:EST
DTSTART:20251102T060000
END:STANDARD
BEGIN:DAYLIGHT
TZOFFSETFROM:-0500
TZOFFSETTO:-0400
TZNAME:EDT
DTSTART:20260308T070000
END:DAYLIGHT
BEGIN:STANDARD
TZOFFSETFROM:-0400
TZOFFSETTO:-0500
TZNAME:EST
DTSTART:20261101T060000
END:STANDARD
BEGIN:DAYLIGHT
TZOFFSETFROM:-0500
TZOFFSETTO:-0400
TZNAME:EDT
DTSTART:20270314T070000
END:DAYLIGHT
BEGIN:STANDARD
TZOFFSETFROM:-0400
TZOFFSETTO:-0500
TZNAME:EST
DTSTART:20271107T060000
END:STANDARD
END:VTIMEZONE
BEGIN:VEVENT
DTSTART;TZID=Africa/Abidjan:20260210T090000
DTEND;TZID=Africa/Abidjan:20260210T150000
DTSTAMP:20260421T073749
CREATED:20260202T220805Z
LAST-MODIFIED:20260209T222323Z
UID:10001873-1770714000-1770735600@newportnewsva.com
SUMMARY:The Network: Direct Employer Access (Newport News)
DESCRIPTION:Stop applying online. Start shaking hands. Bypass the resume “black hole.” Meet vetted hiring managers who know what your clearance is worth\nThe Algorithm Can’t Hire You. We Can.\nThe Problem: You spend hours tailoring your resume. You submit it to an online portal. You wait. You hear nothing. The “Black Hole” of online applications is the enemy of a fast transition.\nThe Solution: The Network is your bypass. We cut the red tape and put you in the room with the people who actually sign the offer letters.\nThis isn’t a “job fair” where you collect brochures. This is a tactical access point to the 757’s most aggressive military-hiring companies. We have vetted every employer in the room. They aren’t here to tell you to “apply on the website”—they are here to find their next team leader.\nWho Should Attend:\nTransitioning Service Members: Who are tired of the waiting game.\nMilitary Spouses: Looking for employers who understand the PCS lifestyle.\nVeterans: Ready to level up from their current civilian role.\nYour Rules of Engagement:\nBring Resumes if you have them BUT no biggie if you don’t.\nBe Social: No stress\, take your 30 seconds to tell them who you are. Make it count. Learn who they are and what they’re looking for. If it’s not you\, how you can help.\nThe job market is all about who you know. Come know the right people.\nIf you have any additional questions\, please do not hesitate to contact us:\nPhone: 757-782-4531\nEmail: militarycommunity@theworkforcecouncil.org\nThis event and the services provided herein at the Hampton Roads Veterans Employment Centers are funded through 25% or $199\,576 through the Workforce Innovation and Opportunity Act and 75% or $580\,391 through nonfederal sources.
URL:https://newportnewsva.com/event/the-network-direct-employer-access-newport-news-5/
LOCATION:Hampton Roads Veteran Employment Center\, 600 Thimble Shoals Blvd\, Newport News\, VA\, United States
ATTACH;FMTTYPE=image/png:https://newportnewsva.com/wp-content/uploads/2022/07/187908_image-scaled-nUCuzQ.png
GEO:37.083192;-76.48264
X-APPLE-STRUCTURED-LOCATION;VALUE=URI;X-ADDRESS=Hampton Roads Veteran Employment Center 600 Thimble Shoals Blvd Newport News VA United States;X-APPLE-RADIUS=500;X-TITLE=600 Thimble Shoals Blvd:geo:-76.48264,37.083192
END:VEVENT
BEGIN:VEVENT
DTSTART;TZID=Africa/Abidjan:20260210T090000
DTEND;TZID=Africa/Abidjan:20260210T150000
DTSTAMP:20260421T073749
CREATED:20260202T220805Z
LAST-MODIFIED:20260209T222324Z
UID:10001874-1770714000-1770735600@newportnewsva.com
SUMMARY:The Network: Direct Employer Access (Norfolk)
DESCRIPTION:Stop applying online. Start shaking hands. Bypass the resume “black hole.” Meet vetted hiring managers who know what your clearance is worth\nThe Algorithm Can’t Hire You. We Can.\nThe Problem: You spend hours tailoring your resume. You submit it to an online portal. You wait. You hear nothing. The “Black Hole” of online applications is the enemy of a fast transition.\nThe Solution: The Network is your bypass. We cut the red tape and put you in the room with the people who actually sign the offer letters.\nThis isn’t a “job fair” where you collect brochures. This is a tactical access point to the 757’s most aggressive military-hiring companies. We have vetted every employer in the room. They aren’t here to tell you to “apply on the website”—they are here to find their next team leader.\nWho Should Attend:\nTransitioning Service Members: Who are tired of the waiting game.\nMilitary Spouses: Looking for employers who understand the PCS lifestyle.\nVeterans: Ready to level up from their current civilian role.\nYour Rules of Engagement:\nBring Resumes if you have them BUT no biggie if you don’t.\nBe Social: No stress\, take your 30 seconds to tell them who you are. Make it count. Learn who they are and what they’re looking for. If it’s not you\, how you can help.\nThe job market is all about who you know. Come know the right people.\nIf you have any additional questions\, please do not hesitate to contact us:\nPhone: 757-807-0423\nEmail: militarycommunity@theworkforcecouncil.org\nThis event and the services provided herein at the Hampton Roads Veterans Employment Centers are funded through 25% or $199\,576 through the Workforce Innovation and Opportunity Act and 75% or $580\,391 through nonfederal sources.
URL:https://newportnewsva.com/event/the-network-direct-employer-access-norfolk-5/
LOCATION:Hampton Roads Veterans Employment Center (HRVEC)\, 861 Glenrock Rd\, Norfolk\, VA\, United States
ATTACH;FMTTYPE=image/png:https://newportnewsva.com/wp-content/uploads/2022/07/187919_image-scaled-bm9IU1.png
GEO:36.852838;-76.20158
X-APPLE-STRUCTURED-LOCATION;VALUE=URI;X-ADDRESS=Hampton Roads Veterans Employment Center (HRVEC) 861 Glenrock Rd Norfolk VA United States;X-APPLE-RADIUS=500;X-TITLE=861 Glenrock Rd:geo:-76.20158,36.852838
END:VEVENT
BEGIN:VEVENT
DTSTART;TZID=Africa/Abidjan:20260210T100000
DTEND;TZID=Africa/Abidjan:20260210T110000
DTSTAMP:20260421T073749
CREATED:20260202T220806Z
LAST-MODIFIED:20260209T222323Z
UID:10001876-1770717600-1770721200@newportnewsva.com
SUMMARY:Business Finance Basics
DESCRIPTION:This financial workshop is presented by Vice President and Financial Inclusion Leader Mara Bostelman of Truist Bank.\nThis interactive session will help show you how to build\, manage\, and protect your business for years to come.  \nIn this course\, you’ll learn key elements of business finance basics to manage your cash flow\, explore ways to expand your business\, and understanding insurance for your business.  \nWe’ll also provide valuable take-away resources to help you and your business.  \nAgenda:\nManage Cash Flow\nExpand Your Business\nProtect Your Business
URL:https://newportnewsva.com/event/business-finance-basics-8/
LOCATION:The HIVE by City of Virginia Beach\, 301 S Independence Blvd\, Virginia Beach\, VA\, United States
CATEGORIES:Business,Entrepreneurship,Home Based Business
ATTACH;FMTTYPE=image/png:https://newportnewsva.com/wp-content/uploads/2022/07/187185_image-oy1HhO.png
GEO:36.829794;-76.136618
X-APPLE-STRUCTURED-LOCATION;VALUE=URI;X-ADDRESS=The HIVE by City of Virginia Beach 301 S Independence Blvd Virginia Beach VA United States;X-APPLE-RADIUS=500;X-TITLE=301 S Independence Blvd:geo:-76.136618,36.829794
END:VEVENT
BEGIN:VEVENT
DTSTART;TZID=America/New_York:20260210T100000
DTEND;TZID=America/New_York:20260210T110000
DTSTAMP:20260421T073749
CREATED:20260202T220846Z
LAST-MODIFIED:20260209T222324Z
UID:10001877-1770717600-1770721200@newportnewsva.com
SUMMARY:Using AI for Social Media
DESCRIPTION:Work Smarter\, Stay Authentic\nSocial media marketing can feel overwhelming\, from coming up with ideas to writing captions\, planning content\, and posting consistently. For many business owners\, it’s difficult to keep up while managing everything else.\nIn this live\, virtual workshop\, you’ll learn how practical\, easy-to-use AI tools can help simplify your social media process without sacrificing your brand voice. Through real-world examples and demonstrations\, we’ll show how AI can support content ideas\, caption writing\, and planning so your social media efforts feel more manageable and intentional.\nThis session is designed to be approachable\, practical\, and immediately useful.\nWhat you’ll learn:\nWhich AI tools are most useful for social media marketing\nHow to use AI to generate content ideas and draft captions\nWays to streamline social media planning and save time\nBest practices for using AI while keeping your brand authentic\nWhether you’re new to AI or already experimenting\, you’ll leave with clear ideas and next steps you can put into practice right away.
URL:https://newportnewsva.com/event/using-ai-for-social-media/
LOCATION:Virtual
CATEGORIES:Business,Entrepreneurship,Home Based Business,SBDC
END:VEVENT
BEGIN:VEVENT
DTSTART;TZID=Africa/Abidjan:20260210T100000
DTEND;TZID=Africa/Abidjan:20260210T120000
DTSTAMP:20260421T073749
CREATED:20260202T220805Z
LAST-MODIFIED:20260209T222323Z
UID:10001875-1770717600-1770724800@newportnewsva.com
SUMMARY:One-on-One Business Mentoring with SCORE
DESCRIPTION:Need expert advice to grow your business?\nWhether you’re just starting out or looking to scale\, SCORE’s business mentors can help guide you through your next steps. Walk-ins are welcome\, but appointments are preferred to ensure you get the time and attention you need.
URL:https://newportnewsva.com/event/one-on-one-business-mentoring-with-score-10/
LOCATION:The HIVE by City of Virginia Beach\, 301 S Independence Blvd\, Virginia Beach\, VA\, United States
CATEGORIES:Business,Entrepreneurship,Home Based Business
ATTACH;FMTTYPE=image/png:https://newportnewsva.com/wp-content/uploads/2022/07/186906_image-Bp4cHo.png
GEO:36.829794;-76.136618
X-APPLE-STRUCTURED-LOCATION;VALUE=URI;X-ADDRESS=The HIVE by City of Virginia Beach 301 S Independence Blvd Virginia Beach VA United States;X-APPLE-RADIUS=500;X-TITLE=301 S Independence Blvd:geo:-76.136618,36.829794
END:VEVENT
END:VCALENDAR